{"text_format":"1","workbook":"xlsx","n_sheets":5,"sheets":["Sheet1","Calculator","UNSP","Sheet4","Sheet3"],"not_rendered":{"charts":0,"images":1,"macros":1,"external_links":0,"defined_names":2,"comments":0,"pivot_tables":0},"unopened":[],"bounds":{"document_bytes":16777216,"sheet_cells":100000,"rows_first":2000,"rows_last":500,"rows_between":2000,"halvings":0,"cell_chars":16384,"cell_head_chars":4096},"cells_cut":0,"cells_raw":0,"read":"whole","date_system":"1900"}

{"sheet":"Sheet1","index":0,"n_rows":238,"n_cols":9,"rows_kept":238,"cut":false,"hidden":true,"merged":[]}
["Country","Currency","One","2-5","6-10","11-50","50-150","151-250","251+"]
["United Kingdom","GBP",124.2,119.03,113.85,98.33,72.45,51.75,10.35]
["Afghanistan","GBP",120.06,114.89,109.71,95.22,70.38,49.68,10.35]
["Albania","EUR",137.66,131.44999999999999,126.27,108.68,80.73,56.93,11.39]
["Algeria","GBP",120.06,114.89,109.71,95.22,70.38,49.68,10.35]
["American Samoa","USD",56.93,54.86,52.79,45.54,33.119999999999997,23.81,5.18]
["Andorra","EUR",137.66,131.44999999999999,126.27,108.68,80.73,56.93,11.39]
["Angola","USD",81.77,78.66,74.52,64.17,47.61,34.159999999999997,7.25]
["Anguilla","USD",90.05,85.91,81.77,71.42,52.79,37.26,7.25]
["Antarctica","USD",56.93,54.86,52.79,45.54,33.119999999999997,23.81,5.18]
["Antigua and Barbuda","USD",65.209999999999994,62.1,60.03,51.75,38.299999999999997,26.91,5.18]
["Argentina","USD",62.1,59,55.89,48.65,35.19,25.88,5.18]
["Armenia","EUR",137.66,131.44999999999999,126.27,108.68,80.73,56.93,11.39]
["Aruba","USD",122.13,116.96,111.78,97.29,71.42,50.72,10.35]
["Australia","AUD",156.29,149.04,142.83000000000001,123.17,91.08,65.209999999999994,13.46]
["Australia Central Territory (Christmas Islands)","USD",56.93,54.86,52.79,45.54,33.119999999999997,23.81,5.18]
["Australia Central Territory (Norfolk  Islands)","USD",56.93,54.86,52.79,45.54,33.119999999999997,23.81,5.18]
["Austria","EUR",137.66,131.44999999999999,126.27,108.68,80.73,56.93,11.39]
["Azerbaijan","EUR",137.66,131.44999999999999,126.27,108.68,80.73,56.93,11.39]
["Bahamas","USD",122.13,116.96,111.78,97.29,71.42,50.72,10.35]
["Bahrain","GBP",120.06,114.89,109.71,95.22,70.38,49.68,10.35]
["Bangladesh","USD",65.209999999999994,62.1,60.03,51.75,38.299999999999997,26.91,5.18]
["Barbados","USD",90.05,85.91,81.77,71.42,52.79,37.26,7.25]
["Belarus","EUR",137.66,131.44999999999999,126.27,108.68,80.73,56.93,11.39]
["Belgium","EUR",137.66,131.44999999999999,126.27,108.68,80.73,56.93,11.39]
["Belize","USD",61.07,59,55.89,48.65,35.19,25.88,5.18]
["Benin","USD",81.77,78.66,74.52,64.17,47.61,34.159999999999997,7.25]
["Bermuda","USD",122.13,116.96,111.78,97.29,71.42,50.72,10.35]
["Bhutan","USD",56.93,54.86,52.79,45.54,33.119999999999997,23.81,5.18]
["Bolivia","USD",61.07,59,55.89,48.65,35.19,25.88,5.18]
["Bosnia And Herzegovina","EUR",137.66,131.44999999999999,126.27,108.68,80.73,56.93,11.39]
["Botswana","USD",81.77,78.66,74.52,64.17,47.61,34.159999999999997,7.25]
["Brazil","BRL",654.12,626.17999999999995,599.27,517.5,380.88,272.20999999999998,54.86]
["British Indian Ocean Territory","USD",56.93,54.86,52.79,45.54,33.119999999999997,23.81,5.18]
["British Virgin Islands","USD",122.13,116.96,111.78,97.29,71.42,50.72,10.35]
["Brunei Darussalam","USD",98.33,94.19,90.05,77.63,56.93,40.369999999999997,8.2799999999999994]
["Bulgaria","EUR",137.66,131.44999999999999,126.27,108.68,80.73,56.93,11.39]
["Burkina Faso","USD",81.77,78.66,74.52,64.17,47.61,34.159999999999997,7.25]
["Burundi","USD",81.77,78.66,74.52,64.17,47.61,34.159999999999997,7.25]
["Cambodia","USD",56.93,54.86,52.79,45.54,33.119999999999997,23.81,5.18]
["Cameroon","USD",81.77,78.66,74.52,64.17,47.61,34.159999999999997,7.25]
["Canada","CAD",213.21,203.9,195.62,168.71,124.2,89.01,17.600000000000001]
["Cape Verde","USD",81.77,78.66,74.52,64.17,47.61,34.159999999999997,7.25]
["Cayman Islands","USD",122.13,116.96,111.78,97.29,71.42,50.72,10.35]
["Central African Republic","USD",81.77,78.66,74.52,64.17,47.61,34.159999999999997,7.25]
["Chad","USD",81.77,78.66,74.52,64.17,47.61,34.159999999999997,7.25]
["Chile","USD",61.07,59,55.89,48.65,35.19,25.88,5.18]
["China","GBP",62.1,60.03,56.93,49.68,36.229999999999997,25.88,5.18]
["Cocos (Keeling) Islands","USD",56.93,54.86,52.79,45.54,33.119999999999997,23.81,5.18]
["Colombia","USD",61.07,59,55.89,48.65,35.19,25.88,5.18]
["Comoros","USD",81.77,78.66,74.52,64.17,47.61,34.159999999999997,7.25]
["Congo, Republic of","USD",81.77,78.66,74.52,64.17,47.61,34.159999999999997,7.25]
["Cook Islands","USD",73.489999999999995,70.38,67.28,57.96,42.44,31.05,6.21]
["Costa Rica","USD",61.07,59,55.89,48.65,35.19,25.88,5.18]
["Cote D'ivoire","USD",81.77,78.66,74.52,64.17,47.61,34.159999999999997,7.25]
["Croatia","EUR",137.66,131.44999999999999,126.27,108.68,80.73,56.93,11.39]
["Cuba","USD",65.209999999999994,62.1,60.03,51.75,38.299999999999997,26.91,5.18]
["Cyprus","EUR",137.66,131.44999999999999,126.27,108.68,80.73,56.93,11.39]
["Czech Republic","EUR",137.66,131.44999999999999,126.27,108.68,80.73,56.93,11.39]
["Democratic People's Republic of Korea","USD",56.93,54.86,52.79,45.54,33.119999999999997,23.81,5.18]
["Denmark","EUR",137.66,131.44999999999999,126.27,108.68,80.73,56.93,11.39]
["Djibouti","USD",81.77,78.66,74.52,64.17,47.61,34.159999999999997,7.25]
["Dominica","USD",65.209999999999994,62.1,60.03,51.75,38.299999999999997,26.91,5.18]
["Dominican Republic","USD",61.07,59,55.89,48.65,35.19,25.88,5.18]
["East Timor","USD",56.93,54.86,52.79,45.54,33.119999999999997,23.81,5.18]
["Ecuador","USD",61.07,59,55.89,48.65,35.19,25.88,5.18]
["Egypt","GBP",120.06,114.89,109.71,95.22,70.38,49.68,10.35]
["El Salvador","USD",61.07,59,55.89,48.65,35.19,25.88,5.18]
["Equatorial Guinea","USD",81.77,78.66,74.52,64.17,47.61,34.159999999999997,7.25]
["Eritrea","USD",81.77,78.66,74.52,64.17,47.61,34.159999999999997,7.25]
["Estonia","EUR",137.66,131.44999999999999,126.27,108.68,80.73,56.93,11.39]
["Ethiopia","USD",81.77,78.66,74.52,64.17,47.61,34.159999999999997,7.25]
["Falkland Islands","USD",90.05,85.91,81.77,71.42,52.79,37.26,7.25]
["Faroe Islands","EUR",137.66,131.44999999999999,126.27,108.68,80.73,56.93,11.39]
["Federated States of Micronesia","USD",73.489999999999995,70.38,67.28,57.96,42.44,31.05,6.21]
["Fiji","AUD",78.66,75.56,72.45,62.1,45.54,33.119999999999997,6.21]
["Finland","EUR",137.66,131.44999999999999,126.27,108.68,80.73,56.93,11.39]
["France","EUR",137.66,131.44999999999999,126.27,108.68,80.73,56.93,11.39]
["French Guiana","USD",61.07,59,55.89,48.65,35.19,25.88,5.18]
["French Polynesia","USD",105.57,101.43,97.29,83.84,62.1,44.51,9.32]
["French Southern Territories","USD",56.93,54.86,52.79,45.54,33.119999999999997,23.81,5.18]
["Gabon ","USD",81.77,78.66,74.52,64.17,47.61,34.159999999999997,7.25]
["Gambia","USD",81.77,78.66,74.52,64.17,47.61,34.159999999999997,7.25]
["Georgia","EUR",137.66,131.44999999999999,126.27,108.68,80.73,56.93,11.39]
["Germany","EUR",137.66,131.44999999999999,126.27,108.68,80.73,56.93,11.39]
["Ghana","USD",81.77,78.66,74.52,64.17,47.61,34.159999999999997,7.25]
["Gibraltar","EUR",137.66,131.44999999999999,126.27,108.68,80.73,56.93,11.39]
["Greece","EUR",137.66,131.44999999999999,126.27,108.68,80.73,56.93,11.39]
["Greenland","USD",122.13,116.96,111.78,97.29,71.42,50.72,10.35]
["Grenada","USD",65.209999999999994,62.1,60.03,51.75,38.299999999999997,26.91,5.18]
["Guadeloupe","USD",90.05,85.91,81.77,71.42,52.79,37.26,7.25]
["Guam","USD",105.57,101.43,97.29,83.84,62.1,44.51,9.32]
["Guatemala","USD",61.07,59,55.89,48.65,35.19,25.88,5.18]
["Guinea","USD",81.77,78.66,74.52,64.17,47.61,34.159999999999997,7.25]
["Guinea-Bissau","USD",81.77,78.66,74.52,64.17,47.61,34.159999999999997,7.25]
["Guyana","USD",61.07,59,55.89,48.65,35.19,25.88,5.18]
["Haiti","USD",65.209999999999994,62.1,60.03,51.75,38.299999999999997,26.91,5.18]
["Holy See (Vatican City State)","EUR",137.66,131.44999999999999,126.27,108.68,80.73,56.93,11.39]
["Honduras","USD",61.07,59,55.89,48.65,35.19,25.88,5.18]
["Hong Kong","HKD",758.66,726.57,695.52,600.29999999999995,442.98,315.68,63.14]
["Hungary","EUR",137.66,131.44999999999999,126.27,108.68,80.73,56.93,11.39]
["Iceland","EUR",137.66,131.44999999999999,126.27,108.68,80.73,56.93,11.39]
["India","INR",12102.26,11597.18,10719,9257,6821,4872,974]
["Indonesia","USD",48.65,46.58,44.51,38.299999999999997,28.98,20.7,4.1399999999999997]
["Iraq","GBP",120.06,114.89,109.71,95.22,70.38,49.68,10.35]
["Ireland","EUR",137.66,131.44999999999999,126.27,108.68,80.73,56.93,11.39]
["Islamic Republic Of Iran","GBP",120.06,114.89,109.71,95.22,70.38,49.68,10.35]
["Israel","EUR",137.66,131.44999999999999,126.27,108.68,80.73,56.93,11.39]
["Italy","EUR",137.66,131.44999999999999,126.27,108.68,80.73,56.93,11.39]
["Jamaica","USD",65.209999999999994,62.1,60.03,51.75,38.299999999999997,26.91,5.18]
["Japan","USD",94.19,91.08,86.94,74.52,54.86,39.33,8.2799999999999994]
["Jordan","GBP",120.06,114.89,109.71,95.22,70.38,49.68,10.35]
["Kazakhstan","EUR",137.66,131.44999999999999,126.27,108.68,80.73,56.93,11.39]
["Kenya","USD",81.77,78.66,74.52,64.17,47.61,34.159999999999997,7.25]
["Kiribati","USD",56.93,54.86,52.79,45.54,33.119999999999997,23.81,5.18]
["Kuwait","GBP",120.06,114.89,109.71,95.22,70.38,49.68,10.35]
["Kyrgyzstan","EUR",137.66,131.44999999999999,126.27,108.68,80.73,56.93,11.39]
["Lao People's Democratic Republic ","USD",56.93,54.86,52.79,45.54,33.119999999999997,23.81,5.18]
["Latvia","EUR",137.66,131.44999999999999,126.27,108.68,80.73,56.93,11.39]
["Lebanon","GBP",120.06,114.89,109.71,95.22,70.38,49.68,10.35]
["Lesotho","USD",81.77,78.66,74.52,64.17,47.61,34.159999999999997,7.25]
["Liberia","USD",81.77,78.66,74.52,64.17,47.61,34.159999999999997,7.25]
["Libyan Arab Jamahiriya","GBP",120.06,114.89,109.71,95.22,70.38,49.68,10.35]
["Liechtenstein","EUR",137.66,131.44999999999999,126.27,108.68,80.73,56.93,11.39]
["Lithuania","EUR",137.66,131.44999999999999,126.27,108.68,80.73,56.93,11.39]
["Luxembourg","EUR",137.66,131.44999999999999,126.27,108.68,80.73,56.93,11.39]
["Macao","HKD",758.66,726.57,695.52,600.29999999999995,442.98,315.68,63.14]
["Madagascar","USD",81.77,78.66,74.52,64.17,47.61,34.159999999999997,7.25]
["Malawi","USD",81.77,78.66,74.52,64.17,47.61,34.159999999999997,7.25]
["Malaysia","USD",65.209999999999994,62.1,60.03,51.75,38.299999999999997,26.91,5.18]
["Maldives","USD",81.77,78.66,74.52,64.17,47.61,34.159999999999997,7.25]
["Mali","USD",81.77,78.66,74.52,64.17,47.61,34.159999999999997,7.25]
["Malta","EUR",137.66,131.44999999999999,126.27,108.68,80.73,56.93,11.39]
["Marshall Islands","USD",73.489999999999995,70.38,67.28,57.96,42.44,31.05,6.21]
["Martinique","EUR",75.56,72.45,69.349999999999994,60.03,44.51,31.05,6.21]
["Mauritania","USD",81.77,78.66,74.52,64.17,47.61,34.159999999999997,7.25]
["Mauritius","USD",81.77,78.66,74.52,64.17,47.61,34.159999999999997,7.25]
["Mayotte","USD",81.77,78.66,74.52,64.17,47.61,34.159999999999997,7.25]
["Mexico","USD",117.99,112.82,108.68,93.15,69.349999999999994,49.68,10.35]
["Monaco","EUR",137.66,131.44999999999999,126.27,108.68,80.73,56.93,11.39]
["Mongolia","USD",56.93,54.86,52.79,45.54,33.119999999999997,23.81,5.18]
["Montenegro","EUR",137.66,131.44999999999999,126.27,108.68,80.73,56.93,11.39]
["Montserrat","USD",90.05,85.91,81.77,71.42,52.79,37.26,7.25]
["Morocco","EUR",89.01,85.91,81.77,71.42,51.75,37.26,7.25]
["Mozambique","USD",81.77,78.66,74.52,64.17,47.61,34.159999999999997,7.25]
["Myanmar (Burma)","USD",56.93,54.86,52.79,45.54,33.119999999999997,23.81,5.18]
["Namibia","USD",81.77,78.66,74.52,64.17,47.61,34.159999999999997,7.25]
["Nauru","USD",56.93,54.86,52.79,45.54,33.119999999999997,23.81,5.18]
["Nepal","USD",40.369999999999997,39.33,37.26,32.090000000000003,23.81,16.559999999999999,3.11]
["Netherlands","EUR",137.66,131.44999999999999,126.27,108.68,80.73,56.93,11.39]
["Netherlands Antilles","USD",90.05,85.91,81.77,71.42,52.79,37.26,7.25]
["New Caledonia","USD",56.93,54.86,52.79,45.54,33.119999999999997,23.81,5.18]
["New Zealand","NZD",143.87,138.69,132.47999999999999,113.85,83.84,60.03,12.42]
["Nicaragua","USD",61.07,59,55.89,48.65,35.19,25.88,5.18]
["Niger","USD",81.77,78.66,74.52,64.17,47.61,34.159999999999997,7.25]
["Nigeria","USD",81.77,78.66,74.52,64.17,47.61,34.159999999999997,7.25]
["Niue","USD",56.93,54.86,52.79,45.54,33.119999999999997,23.81,5.18]
["North Macedonia","EUR",137.66,131.44999999999999,126.27,108.68,80.73,56.93,11.39]
["Norway","EUR",137.66,131.44999999999999,126.27,108.68,80.73,56.93,11.39]
["Oman","GBP",120.06,114.89,109.71,95.22,70.38,49.68,10.35]
["Pakistan","GBP",120.06,114.89,109.71,95.22,70.38,49.68,10.35]
["Palau","USD",73.489999999999995,70.38,67.28,57.96,42.44,31.05,6.21]
["Palestinian Territory","GBP",120.06,114.89,109.71,95.22,70.38,49.68,10.35]
["Panama","USD",61.07,59,55.89,48.65,35.19,25.88,5.18]
["Papua New Guinea","AUD",78.66,75.56,72.45,62.1,45.54,33.119999999999997,6.21]
["Paraguay","USD",61.07,59,55.89,48.65,35.19,25.88,5.18]
["Peru","USD",61.07,59,55.89,48.65,35.19,25.88,5.18]
["Philippines","USD",48.65,46.58,44.51,38.299999999999997,28.98,20.7,4.1399999999999997]
["Pitcairn Island","USD",56.93,54.86,52.79,45.54,33.119999999999997,23.81,5.18]
["Poland","EUR",137.66,131.44999999999999,126.27,108.68,80.73,56.93,11.39]
["Portugal","EUR",137.66,131.44999999999999,126.27,108.68,80.73,56.93,11.39]
["Puerto Rico","USD",61.07,59,55.89,48.65,35.19,25.88,5.18]
["Qatar","GBP",120.06,114.89,109.71,95.22,70.38,49.68,10.35]
["Republic of Korea","USD",98.33,94.19,90.05,77.63,56.93,40.369999999999997,8.2799999999999994]
["Republic of Kosovo","EUR",137.66,131.44999999999999,126.27,108.68,80.73,56.93,11.39]
["Republic of Moldova","EUR",137.66,131.44999999999999,126.27,108.68,80.73,56.93,11.39]
["Romania","EUR",137.66,131.44999999999999,126.27,108.68,80.73,56.93,11.39]
["Russian Federation","EUR",137.66,131.44999999999999,126.27,108.68,80.73,56.93,11.39]
["Rwanda","USD",81.77,78.66,74.52,64.17,47.61,34.159999999999997,7.25]
["Saint Helena, Ascension and Tristan Da Cunha","USD",81.77,78.66,74.52,64.17,47.61,34.159999999999997,7.25]
["Saint Kitts And Nevis","USD",65.209999999999994,62.1,60.03,51.75,38.299999999999997,26.91,5.18]
["Saint Lucia","USD",90.05,85.91,81.77,71.42,52.79,37.26,7.25]
["Saint Pierre And Miquelon","USD",65.209999999999994,62.1,60.03,51.75,38.299999999999997,26.91,5.18]
["Saint Vincent And The Grenadines","USD",65.209999999999994,62.1,60.03,51.75,38.299999999999997,26.91,5.18]
["Samoa","USD",56.93,54.86,52.79,45.54,33.119999999999997,23.81,5.18]
["San Marino","EUR",137.66,131.44999999999999,126.27,108.68,80.73,56.93,11.39]
["Sao Tome and Principe","USD",81.77,78.66,74.52,64.17,47.61,34.159999999999997,7.25]
["Saudi Arabia","GBP",120.06,114.89,109.71,95.22,70.38,49.68,10.35]
["Senegal","USD",81.77,78.66,74.52,64.17,47.61,34.159999999999997,7.25]
["Serbia","EUR",137.66,131.44999999999999,126.27,108.68,80.73,56.93,11.39]
["Seychelles","USD",81.77,78.66,74.52,64.17,47.61,34.159999999999997,7.25]
["Sierra Leone","USD",81.77,78.66,74.52,64.17,47.61,34.159999999999997,7.25]
["Singapore","USD",98.33,94.19,90.05,77.63,56.93,40.369999999999997,8.2799999999999994]
["Slovakia","EUR",137.66,131.44999999999999,126.27,108.68,80.73,56.93,11.39]
["Slovenia","EUR",137.66,131.44999999999999,126.27,108.68,80.73,56.93,11.39]
["Solomon Islands","USD",56.93,54.86,52.79,45.54,33.119999999999997,23.81,5.18]
["Somalia","USD",81.77,78.66,74.52,64.17,47.61,34.159999999999997,7.25]
["South Africa","ZAR",1284.44,1230.6199999999999,1177.83,1016.37,749.34,535.1,106.61]
["South Georgia And The South Sandwich Islands","USD",65.209999999999994,62.1,60.03,51.75,38.299999999999997,26.91,5.18]
["Spain","EUR",137.66,131.44999999999999,126.27,108.68,80.73,56.93,11.39]
["Sri Lanka","USD",40.369999999999997,39.33,37.26,32.090000000000003,23.81,16.559999999999999,3.11]
["Sudan","USD",81.77,78.66,74.52,64.17,47.61,34.159999999999997,7.25]
["Suriname","USD",61.07,59,55.89,48.65,35.19,25.88,5.18]
["Svalbard","EUR",137.66,131.44999999999999,126.27,108.68,80.73,56.93,11.39]
["Eswatini","USD",81.77,78.66,74.52,64.17,47.61,34.159999999999997,7.25]
["Sweden","EUR",137.66,131.44999999999999,126.27,108.68,80.73,56.93,11.39]
["Switzerland","EUR",137.66,131.44999999999999,126.27,108.68,80.73,56.93,11.39]
["Syrian Arab Republic","GBP",120.06,114.89,109.71,95.22,70.38,49.68,10.35]
["Taiwan","USD",63.14,61.07,57.96,50.72,37.26,26.91,5.18]
["Tajikistan","EUR",137.66,131.44999999999999,126.27,108.68,80.73,56.93,11.39]
["Thailand","USD",48.65,46.58,44.51,38.299999999999997,28.98,20.7,4.1399999999999997]
["The Democratic Republic of the Congo","USD",81.77,78.66,74.52,64.17,47.61,34.159999999999997,7.25]
["Togo","USD",81.77,78.66,74.52,64.17,47.61,34.159999999999997,7.25]
["Tokelau","USD",56.93,54.86,52.79,45.54,33.119999999999997,23.81,5.18]
["Tonga","USD",56.93,54.86,52.79,45.54,33.119999999999997,23.81,5.18]
["Trinidad and Tobago","USD",90.05,85.91,81.77,71.42,52.79,37.26,7.25]
["Tunisia","GBP",120.06,114.89,109.71,95.22,70.38,49.68,10.35]
["Turkiye","EUR",89.01,85.91,81.77,71.42,51.75,37.26,7.25]
["Turkmenistan","EUR",137.66,131.44999999999999,126.27,108.68,80.73,56.93,11.39]
["Turks And Caicos Islands","USD",122.13,116.96,111.78,97.29,71.42,50.72,10.35]
["Tuvalu","USD",73.489999999999995,70.38,67.28,57.96,42.44,31.05,6.21]
["Uganda","USD",81.77,78.66,74.52,64.17,47.61,34.159999999999997,7.25]
["Ukraine","EUR",137.66,131.44999999999999,126.27,108.68,80.73,56.93,11.39]
["United Arab Emirates","GBP",120.06,114.89,109.71,95.22,70.38,49.68,10.35]
["United Republic of Tanzania","USD",81.77,78.66,74.52,64.17,47.61,34.159999999999997,7.25]
["United States","USD",163.53,156.29,149.04,129.38,95.22,68.31,13.46]
["United States Minor Outlying Islands","USD",65.209999999999994,62.1,60.03,51.75,38.299999999999997,26.91,5.18]
["Uruguay","USD",61.07,59,55.89,48.65,35.19,25.88,5.18]
["Uzbekistan, Republic of","EUR",137.66,131.44999999999999,126.27,108.68,80.73,56.93,11.39]
["Vanuatu","USD",56.93,54.86,52.79,45.54,33.119999999999997,23.81,5.18]
["Venezuela","USD",61.07,59,55.89,48.65,35.19,25.88,5.18]
["Viet Nam","USD",48.65,46.58,44.51,38.299999999999997,28.98,20.7,4.1399999999999997]
["Virgin Islands, United States","USD",122.13,116.96,111.78,97.29,71.42,50.72,10.35]
["Wallis And Futuna","USD",56.93,54.86,52.79,45.54,33.119999999999997,23.81,5.18]
["Western Sahara","USD",81.77,78.66,74.52,64.17,47.61,34.159999999999997,7.25]
["Yemen","GBP",120.06,114.89,109.71,95.22,70.38,49.68,10.35]
["Zambia","USD",81.77,78.66,74.52,64.17,47.61,34.159999999999997,7.25]
["Zimbabwe","USD",81.77,78.66,74.52,64.17,47.61,34.159999999999997,7.25]

{"sheet":"Calculator","index":1,"n_rows":18,"n_cols":19,"rows_kept":18,"cut":false,"hidden":false,"merged":[[9,12,9,14],[8,12,8,14],[2,2,2,8],[17,2,18,2],[17,4,18,4],[17,6,18,6],[17,8,18,8],[9,2,10,8],[4,2,4,8],[14,2,14,14]]}
[]
[]
[null,null,"\nFee scale calculator"]
[null,null,"Sponsorship"]
[null,null,"Please select your country of operation from the drop down below based on where your head office is located. Please note that firms in the UK (this includes the Channel Islands) will be charged VAT at the rate of 20%. \n\nThe figures below show how much you would pay for sponsoring members. The cost is reduced as you ascend through each bracket. So if you were in the UK and sponsored 6 members it would be calculated as below. \n                                 1 x 124 GBP + 4 x 119 GBP + 1 x 114 = 714 GBP\n\n\n\n"]
[null,null,"Country (Drop Down)",null,"Currency",null,"One",null,"2-5",null,"6-10",null,"11-50",null,"51-150",null,"151-250",null,"251+"]
[null,null,"United Kingdom",null,{"$f":"IFERROR(VLOOKUP(C7,Sheet1!1:1048576,2,FALSE), \"N/A\")","v":"GBP"},null,{"$f":"IFERROR(VLOOKUP(C7,Sheet1!1:1048576,3,FALSE), \"0\")","v":124.2},null,{"$f":"IFERROR(VLOOKUP(C7,Sheet1!1:1048576,4,FALSE), \"0\")","v":119.03},null,{"$f":"IFERROR(VLOOKUP(C7,Sheet1!1:1048576,5,FALSE), \"0\")","v":113.85},null,{"$f":"IFERROR(VLOOKUP(C7,Sheet1!1:1048576,6,FALSE), \"0\")","v":98.33},null,{"$f":"IFERROR(VLOOKUP(C7,Sheet1!1:1048576,7,FALSE), \"0\")","v":72.45},null,{"$f":"IFERROR(VLOOKUP(C7,Sheet1!1:1048576,8,FALSE), \"0\")","v":51.75},null,{"$f":"IFERROR(VLOOKUP(C7,Sheet1!1:1048576,9,FALSE), \"0\")","v":10.35}]
[]
[null,null,null,null,null,null,null,null,null,null,"Count",null,"Cost"]
[null,null,"Select the number of members you wish to sponsor to calculate the cost in the above currency from the \"count\" drop to the right. You must select a country to return a figure.",null,null,null,null,null,null,null,6,null,{"$f":"IFERROR(VLOOKUP(K10,Sheet4!1:1048576,2,FALSE), \"0\")","v":714.17}]
[]
[]
[null,null,"Unsponsored Members"]
[]
[null,null,"For the cost of applying for or renewing your licence for Valuer Registration, select your country of operation from the drop down below. Please note members in the UK (this includes the Channel Islands) will be charged VAT at a rate of 20%"]
[]
[null,null,"Country (Drop Down)",null,"Currency",null,"Fee",null,"Renew"]
[null,null,"Afghanistan",null,{"$f":"IFERROR(VLOOKUP(C18,UNSP!A1:F238,2,FALSE), \"N/A\")","v":"GBP"},null,{"$f":"IFERROR(VLOOKUP(C18,UNSP!A1:F238,4,FALSE), \"0\")","v":139.72999999999999},null,{"$f":"IFERROR(VLOOKUP(C18,UNSP!A1:F238,6,FALSE), \"0\")","v":139.72999999999999}]

{"sheet":"UNSP","index":2,"n_rows":238,"n_cols":6,"rows_kept":238,"cut":false,"hidden":true,"merged":[]}
["Country","Currency","Regulated Area","ApplicationFee","RegistrationFee","RenewalFee"]
["Afghanistan","GBP","Europe, Middle East & Africa (EMEA)",139.72999999999999,0,139.72999999999999]
["Albania","EUR","Europe, Middle East & Africa (EMEA)",160.43,0,155]
["Algeria","GBP","Europe, Middle East & Africa (EMEA)",139.72999999999999,0,135]
["American Samoa","USD","Asia Pacific",66.239999999999995,0,64]
["Andorra","EUR","Europe, Middle East & Africa (EMEA)",160.43,0,155]
["Angola","USD","Europe, Middle East & Africa (EMEA)",87.98,0,92]
["Anguilla","USD","Americas",137.66,0,100]
["Antarctica","USD","Asia Pacific",66.239999999999995,0,64]
["Antigua And Barbuda","USD","Americas",76.59,0,74]
["Argentina","USD","Americas",72.45,0,69]
["Armenia","EUR","Europe, Middle East & Africa (EMEA)",160.43,0,155]
["Aruba","USD","Americas",144.9,0,138]
["Australia","AUD","Asia Pacific",182.16,0,176]
["Austria","EUR","Europe, Middle East & Africa (EMEA)",160.43,0,155]
["Azerbaijan","EUR","Europe, Middle East & Africa (EMEA)",160.43,0,155]
["Bahamas","USD","Americas",142.83000000000001,0,138]
["Bahrain","GBP","Europe, Middle East & Africa (EMEA)",139.72999999999999,0,135]
["Bangladesh","USD","Asia Pacific",76.59,0,74]
["Barbados","USD","Americas",110.75,0,100]
["Belarus","EUR","Europe, Middle East & Africa (EMEA)",160.43,0,155]
["Belgium","EUR","Europe, Middle East & Africa (EMEA)",160.43,0,155]
["Belize","USD","Americas",71.42,0,69]
["Benin","USD","Europe, Middle East & Africa (EMEA)",95.22,0,92]
["Bermuda","USD","Americas",142.83000000000001,0,138]
["Bhutan","USD","Asia Pacific",66.239999999999995,0,64]
["Bolivia","USD","Americas",71.42,0,69]
["Bosnia And Herzegovina","EUR","Europe, Middle East & Africa (EMEA)",160.43,0,155]
["Botswana","USD","Europe, Middle East & Africa (EMEA)",95.22,0,92]
["Brazil","BRL","Americas",762.8,0,737]
["British Indian Ocean Territory","USD","Asia Pacific",66.239999999999995,0,64]
["British Virgin Islands","USD","Americas",142.83000000000001,0,138]
["Brunei Darussalam","USD","Asia Pacific",113.85,0,110]
["Bulgaria","EUR","Europe, Middle East & Africa (EMEA)",160.43,0,155]
["Burkina Faso","USD","Europe, Middle East & Africa (EMEA)",95.22,0,92]
["Burundi","USD","Europe, Middle East & Africa (EMEA)",95.22,0,92]
["Cambodia","USD","Asia Pacific",66.239999999999995,0,64]
["Cameroon","USD","Europe, Middle East & Africa (EMEA)",95.22,0,92]
["Canada","CAD","Americas",248.4,0,240]
["Cape Verde","USD","Europe, Middle East & Africa (EMEA)",95.22,0,92]
["Cayman Islands","USD","Americas",142.83000000000001,0,138]
["Central African Republic","USD","Europe, Middle East & Africa (EMEA)",95.22,0,92]
["Chad","USD","Europe, Middle East & Africa (EMEA)",95.22,0,92]
["Chile","USD","Americas",71.42,0,69]
["China","GBP","Asia Pacific",72.45,0,70]
["Christmas Island","USD","Asia Pacific",66.239999999999995,0,64]
["Cocos (Keeling) Islands","USD","Asia Pacific",66.239999999999995,0,64]
["Colombia","USD","Americas",71.42,0,69]
["Comoros","USD","Europe, Middle East & Africa (EMEA)",95.22,0,92]
["Congo, Republic of","USD","Europe, Middle East & Africa (EMEA)",95.22,0,92]
["Cook Islands","USD","Asia Pacific",85.91,0,83]
["Costa Rica","USD","Americas",71.42,0,69]
["Cote D'ivoire","USD","Europe, Middle East & Africa (EMEA)",95.22,0,92]
["Croatia","EUR","Europe, Middle East & Africa (EMEA)",160.43,0,155]
["Cuba","USD","Americas",76.59,0,74]
["Cyprus","EUR","Europe, Middle East & Africa (EMEA)",160.43,0,155]
["Czech Republic","EUR","Europe, Middle East & Africa (EMEA)",160.43,0,155]
["Democratic People's Republic of Korea","USD","Asia Pacific",66.239999999999995,0,64]
["Denmark","EUR","Europe, Middle East & Africa (EMEA)",160.43,0,155]
["Djibouti","USD","Europe, Middle East & Africa (EMEA)",95.22,0,92]
["Dominica","USD","Americas",76.59,0,74]
["Dominican Republic","USD","Americas",71.42,0,69]
["Ecuador","USD","Americas",71.42,0,69]
["Egypt","GBP","Europe, Middle East & Africa (EMEA)",139.72999999999999,0,135]
["El Salvador","USD","Americas",71.42,0,69]
["Equatorial Guinea","USD","Europe, Middle East & Africa (EMEA)",95.22,0,92]
["Eritrea","USD","Europe, Middle East & Africa (EMEA)",95.22,0,92]
["Estonia","EUR","Europe, Middle East & Africa (EMEA)",160.43,0,155]
["Ethiopia","USD","Europe, Middle East & Africa (EMEA)",95.22,0,92]
["Falkland Islands","USD","Americas",104.54,0,100]
["Faroe Islands","EUR","Europe, Middle East & Africa (EMEA)",160.43,0,155]
["Federated States of Micronesia","USD","Asia Pacific",85.91,0,83]
["Fiji","AUD","Asia Pacific",92.12,0,89]
["Finland","EUR","Europe, Middle East & Africa (EMEA)",160.43,0,155]
["France","EUR","Europe, Middle East & Africa (EMEA)",160.43,0,155]
["French Guiana","USD","Americas",71.42,0,69]
["French Polynesia","USD","Asia Pacific",123.17,0,119]
["French Southern Territories","USD","Asia Pacific",66.239999999999995,0,64]
["Gabon","USD","Europe, Middle East & Africa (EMEA)",95.22,0,92]
["Gambia","USD","Europe, Middle East & Africa (EMEA)",95.22,0,92]
["Georgia","EUR","Europe, Middle East & Africa (EMEA)",160.43,0,155]
["Germany","EUR","Europe, Middle East & Africa (EMEA)",160.43,0,155]
["Ghana","USD","Europe, Middle East & Africa (EMEA)",95.22,0,92]
["Gibraltar","EUR","Europe, Middle East & Africa (EMEA)",160.43,0,155]
["Greece","EUR","Europe, Middle East & Africa (EMEA)",160.43,0,155]
["Greenland","USD","Americas",142.83000000000001,0,138]
["Grenada","USD","Americas",76.59,0,74]
["Guadeloupe","USD","Americas",104.54,0,100]
["Guam","USD","Asia Pacific",123.17,0,119]
["Guatemala","USD","Americas",71.42,0,69]
["Guinea","USD","Europe, Middle East & Africa (EMEA)",95.22,0,92]
["Guinea-bissau","USD","Europe, Middle East & Africa (EMEA)",95.22,0,92]
["Guyana","USD","Americas",71.42,0,69]
["Haiti","USD","Americas",76.59,0,74]
["Holy See (Vatican City State)","EUR","Europe, Middle East & Africa (EMEA)",160.43,0,155]
["Honduras","USD","Americas",71.42,0,69]
["Hong Kong","HKD","Asia Pacific",884.93,0,855]
["Hungary","EUR","Europe, Middle East & Africa (EMEA)",160.43,0,155]
["Iceland","EUR","Europe, Middle East & Africa (EMEA)",160.43,0,155]
["India","INR","Asia Pacific",14119.47,0,13642]
["Indonesia","USD","Asia Pacific",56.93,0,55]
["Iraq","GBP","Europe, Middle East & Africa (EMEA)",139.72999999999999,0,135]
["Ireland","EUR","Europe, Middle East & Africa (EMEA)",160.43,0,155]
["Islamic Republic Of Iran","GBP","Europe, Middle East & Africa (EMEA)",139.72999999999999,0,135]
["Israel","EUR","Europe, Middle East & Africa (EMEA)",160.43,0,155]
["Italy","EUR","Europe, Middle East & Africa (EMEA)",160.43,0,155]
["Jamaica","USD","Americas",76.59,0,74]
["Japan","USD","Asia Pacific",110.75,0,107]
["Jordan","GBP","Europe, Middle East & Africa (EMEA)",139.72999999999999,0,135]
["Kazakhstan","EUR","Europe, Middle East & Africa (EMEA)",160.43,0,155]
["Kenya","USD","Europe, Middle East & Africa (EMEA)",95.22,0,92]
["Kiribati","USD","Asia Pacific",66.239999999999995,0,64]
["Kuwait","GBP","Europe, Middle East & Africa (EMEA)",139.72999999999999,0,135]
["Kyrgyzstan","EUR","Europe, Middle East & Africa (EMEA)",160.43,0,155]
["Lao People's Democratic Republic","USD","Asia Pacific",66.239999999999995,0,64]
["Latvia","EUR","Europe, Middle East & Africa (EMEA)",160.43,0,155]
["Lebanon","GBP","Europe, Middle East & Africa (EMEA)",139.72999999999999,0,135]
["Lesotho","USD","Europe, Middle East & Africa (EMEA)",95.22,0,92]
["Liberia","USD","Europe, Middle East & Africa (EMEA)",95.22,0,92]
["Libyan Arab Jamahiriya","GBP","Europe, Middle East & Africa (EMEA)",139.72999999999999,0,135]
["Liechtenstein","EUR","Europe, Middle East & Africa (EMEA)",160.43,0,155]
["Lithuania","EUR","Europe, Middle East & Africa (EMEA)",160.43,0,155]
["Luxembourg","EUR","Europe, Middle East & Africa (EMEA)",160.43,0,155]
["Macao","HKD","Asia Pacific",884.93,0,855]
["Madagascar","USD","Europe, Middle East & Africa (EMEA)",95.22,0,92]
["Malawi","USD","Europe, Middle East & Africa (EMEA)",95.22,0,92]
["Malaysia","USD","Asia Pacific",76.59,0,74]
["Maldives","USD","Europe, Middle East & Africa (EMEA)",95.22,0,92]
["Mali","USD","Europe, Middle East & Africa (EMEA)",95.22,0,92]
["Malta","EUR","Europe, Middle East & Africa (EMEA)",160.43,0,155]
["Marshall Islands","USD","Asia Pacific",85.91,0,83]
["Martinique","EUR","Americas",87.98,0,85]
["Mauritania","USD","Europe, Middle East & Africa (EMEA)",95.22,0,92]
["Mauritius","USD","Europe, Middle East & Africa (EMEA)",95.22,0,92]
["Mayotte","USD","Europe, Middle East & Africa (EMEA)",95.22,0,92]
["Mexico","USD","Americas",137.66,0,133]
["Monaco","EUR","Europe, Middle East & Africa (EMEA)",160.43,0,155]
["Mongolia","USD","Asia Pacific",66.239999999999995,0,64]
["Montenegro","EUR","Europe, Middle East & Africa (EMEA)",160.43,0,155]
["Montserrat","USD","Americas",104.54,0,100]
["Morocco","EUR","Europe, Middle East & Africa (EMEA)",104.54,0,101]
["Mozambique","USD","Europe, Middle East & Africa (EMEA)",95.22,0,92]
["Myanmar (Burma)","USD","Asia Pacific",66.239999999999995,0,64]
["Namibia","USD","Europe, Middle East & Africa (EMEA)",95.22,0,92]
["Nauru","USD","Asia Pacific",66.239999999999995,0,64]
["Nepal","USD","Asia Pacific",47.61,0,46]
["Netherlands","EUR","Europe, Middle East & Africa (EMEA)",160.43,0,155]
["Netherlands Antilles","USD","Americas",104.54,0,100]
["New Caledonia","USD","Asia Pacific",66.239999999999995,0,64]
["New Zealand","NZD","Asia Pacific",168.71,0,163]
["Nicaragua","USD","Americas",71.42,0,69]
["Niger","USD","Europe, Middle East & Africa (EMEA)",95.22,0,92]
["Nigeria","USD","Europe, Middle East & Africa (EMEA)",95.22,0,92]
["Niue","USD","Asia Pacific",66.239999999999995,0,64]
["Norfolk Island","USD","Asia Pacific",66.239999999999995,0,64]
["Norway","EUR","Europe, Middle East & Africa (EMEA)",160.43,0,155]
["Oman","GBP","Europe, Middle East & Africa (EMEA)",139.72999999999999,0,135]
["Pakistan","GBP","Europe, Middle East & Africa (EMEA)",139.72999999999999,0,135]
["Palau","USD","Asia Pacific",85.91,0,83]
["Palestinian Territory","GBP","Europe, Middle East & Africa (EMEA)",139.72999999999999,0,135]
["Panama","USD","Americas",71.42,0,69]
["Papua New Guinea","AUD","Asia Pacific",92.12,0,89]
["Paraguay","USD","Americas",71.42,0,69]
["Peru","USD","Americas",71.42,0,69]
["Philippines","USD","Asia Pacific",56.93,0,55]
["Pitcairn","USD","Asia Pacific",66.239999999999995,0,64]
["Poland","EUR","Europe, Middle East & Africa (EMEA)",160.43,0,155]
["Portugal","EUR","Europe, Middle East & Africa (EMEA)",160.43,0,155]
["Puerto Rico","USD","Americas",71.42,0,69]
["Qatar","GBP","Europe, Middle East & Africa (EMEA)",139.72999999999999,0,135]
["Republic of Korea","USD","Asia Pacific",113.85,0,110]
["Republic of Kosovo","EUR","Europe, Middle East & Africa (EMEA)",160.43,0,155]
["Republic of Moldova","EUR","Europe, Middle East & Africa (EMEA)",160.43,0,155]
["Romania","EUR","Europe, Middle East & Africa (EMEA)",160.43,0,155]
["Russian Federation","EUR","Europe, Middle East & Africa (EMEA)",160.43,0,155]
["Rwanda","USD","Europe, Middle East & Africa (EMEA)",95.22,0,92]
["Saint Helena","USD","Europe, Middle East & Africa (EMEA)",95.22,0,92]
["Saint Kitts And Nevis","USD","Americas",76.59,0,74]
["Saint Lucia","USD","Americas",104.54,0,100]
["Saint Pierre And Miquelon","USD","Americas",76.59,0,74]
["Saint Vincent And The Grenadines","USD","Americas",76.59,0,74]
["Samoa","USD","Asia Pacific",66.239999999999995,0,64]
["San Marino","EUR","Europe, Middle East & Africa (EMEA)",160.43,0,155]
["Sao Tome And Principe","USD","Europe, Middle East & Africa (EMEA)",95.22,0,92]
["Saudi Arabia","GBP","Europe, Middle East & Africa (EMEA)",139.72999999999999,0,135]
["Senegal","USD","Europe, Middle East & Africa (EMEA)",95.22,0,92]
["Serbia","EUR","Europe, Middle East & Africa (EMEA)",160.43,0,155]
["Seychelles","USD","Europe, Middle East & Africa (EMEA)",95.22,0,92]
["Sierra Leone","USD","Europe, Middle East & Africa (EMEA)",95.22,0,92]
["Singapore","USD","Asia Pacific",113.85,0,110]
["Slovakia","EUR","Europe, Middle East & Africa (EMEA)",160.43,0,155]
["Slovenia","EUR","Europe, Middle East & Africa (EMEA)",160.43,0,155]
["Solomon Islands","USD","Asia Pacific",66.239999999999995,0,64]
["Somalia","USD","Europe, Middle East & Africa (EMEA)",95.22,0,92]
["South Africa","ZAR","Europe, Middle East & Africa (EMEA)",2290.46,0,2213]
["South Georgia And The South Sandwich Islands","USD","Americas",76.59,0,74]
["Spain","EUR","Europe, Middle East & Africa (EMEA)",160.43,0,155]
["Sri Lanka","USD","Asia Pacific",47.61,0,46]
["Sudan","USD","Europe, Middle East & Africa (EMEA)",95.22,0,92]
["Suriname","USD","Americas",71.42,0,69]
["Svalbard And Jan Mayen","EUR","Europe, Middle East & Africa (EMEA)",160.43,0,155]
["Swaziland","USD","Europe, Middle East & Africa (EMEA)",95.22,0,92]
["Sweden","EUR","Europe, Middle East & Africa (EMEA)",160.43,0,155]
["Switzerland","EUR","Europe, Middle East & Africa (EMEA)",160.43,0,155]
["Syrian Arab Republic","GBP","Europe, Middle East & Africa (EMEA)",139.72999999999999,0,135]
["Taiwan","USD","Asia Pacific",72,0,72]
["Tajikistan","EUR","Europe, Middle East & Africa (EMEA)",160.43,0,155]
["Thailand","USD","Asia Pacific",56.93,0,55]
["The Democratic Republic of the Congo","USD","Europe, Middle East & Africa (EMEA)",95.22,0,92]
["The Former Yugoslav Republic of Macedonia","EUR","Europe, Middle East & Africa (EMEA)",160.43,0,155]
["Timor-Leste","USD","Asia Pacific",66.239999999999995,0,64]
["Togo","USD","Europe, Middle East & Africa (EMEA)",95.22,0,92]
["Tokelau","USD","Asia Pacific",66.239999999999995,0,64]
["Tonga","USD","Asia Pacific",66.239999999999995,0,64]
["Trinidad And Tobago","USD","Americas",104.54,0,100]
["Tunisia","GBP","Europe, Middle East & Africa (EMEA)",139.72999999999999,0,135]
["Turkey","EUR","Europe, Middle East & Africa (EMEA)",104.54,0,101]
["Turkmenistan","EUR","Europe, Middle East & Africa (EMEA)",160.43,0,155]
["Turks And Caicos Islands","USD","Americas",142.83000000000001,0,138]
["Tuvalu","USD","Asia Pacific",85.91,0,83]
["Uganda","USD","Europe, Middle East & Africa (EMEA)",95.22,0,92]
["Ukraine","EUR","Europe, Middle East & Africa (EMEA)",160.43,0,155]
["United Arab Emirates","GBP","Europe, Middle East & Africa (EMEA)",139.72999999999999,0,135]
["United Kingdom","GBP","UK",144.9,0,140]
["United Republic of Tanzania","USD","Europe, Middle East & Africa (EMEA)",95.22,0,92]
["United States","USD","Americas",190.44,0,184]
["United States Minor Outlying Islands","USD","Americas",76.59,0,74]
["United States Virgin Islands","USD","Americas",142.83000000000001,0,138]
["Uruguay","USD","Americas",71.42,0,69]
["Uzbekistan","EUR","Europe, Middle East & Africa (EMEA)",160.43,0,155]
["Vanuatu","USD","Asia Pacific",66.239999999999995,0,64]
["Venezuela","USD","Americas",71.42,0,69]
["Viet Nam","USD","Asia Pacific",56.93,0,55]
["Wallis And Futuna","USD","Asia Pacific",66.239999999999995,0,64]
["Western Sahara","USD","Europe, Middle East & Africa (EMEA)",95.22,0,92]
["Yemen","GBP","Europe, Middle East & Africa (EMEA)",139.72999999999999,0,135]
["Zambia","USD","Europe, Middle East & Africa (EMEA)",95.22,0,92]
["Zimbabwe","USD","Europe, Middle East & Africa (EMEA)",95.22,0,92]

{"sheet":"Sheet4","index":3,"n_rows":1003,"n_cols":4,"rows_kept":1003,"cut":false,"hidden":true,"merged":[]}
[]
[]
[]
[1,{"$f":"Calculator!G7","v":124.2}]
[2,{"$f":"Calculator!G7+Calculator!I7","v":243.23000000000002}]
[3,{"$f":"Calculator!G7+Calculator!I7+Calculator!I7","v":362.26}]
[4,{"$f":"Calculator!G7+Calculator!I7+Calculator!I7+Calculator!I7","v":481.28999999999996}]
[5,{"$f":"Calculator!G7+Calculator!I7+Calculator!I7+Calculator!I7+Calculator!I7","v":600.31999999999994}]
[6,{"$f":"Calculator!G7+Calculator!I7+Calculator!I7+Calculator!I7+Calculator!I7+Calculator!K7","v":714.17}]
[7,{"$f":"Calculator!G7+Calculator!I7+Calculator!I7+Calculator!I7+Calculator!I7+Calculator!K7+Calculator!K7","v":828.02}]
[8,{"$f":"Calculator!G7+Calculator!I7+Calculator!I7+Calculator!I7+Calculator!I7+Calculator!K7+Calculator!K7+Calculator!K7","v":941.87}]
[9,{"$f":"Calculator!G7+Calculator!I7+Calculator!I7+Calculator!I7+Calculator!I7+Calculator!K7+Calculator!K7+Calculator!K7+Calculator!K7","v":1055.72}]
[10,{"$f":"Calculator!G7+Calculator!I7+Calculator!I7+Calculator!I7+Calculator!I7+Calculator!K7+Calculator!K7+Calculator!K7+Calculator!K7+Calculator!K7","v":1169.57}]
[11,{"$f":"$B$13+C14","v":1267.8999999999999},{"$f":"1*Calculator!M7","v":98.33}]
[12,{"$f":"$B$13+C15","v":1366.23},{"$f":"2*Calculator!M7","v":196.66}]
[13,1464.56,{"$f":"3*Calculator!M7","v":294.99}]
[14,1562.8899999999999,{"$f":"4*Calculator!M7","v":393.32}]
[15,1661.2199999999998,{"$f":"5*Calculator!M7","v":491.65}]
[16,1759.55,{"$f":"6*Calculator!M7","v":589.98}]
[17,1857.8799999999999,{"$f":"7*Calculator!M7","v":688.31}]
[18,1956.21,{"$f":"8*Calculator!M7","v":786.64}]
[19,2054.54,{"$f":"9*Calculator!M7","v":884.97}]
[20,2152.87,{"$f":"10*Calculator!M7","v":983.3}]
[21,2251.1999999999998,{"$f":"11*Calculator!M7","v":1081.6299999999999}]
[22,2349.5299999999997,{"$f":"12*Calculator!M7","v":1179.96}]
[23,2447.8599999999997,{"$f":"13*Calculator!M7","v":1278.29}]
[24,2546.1899999999996,{"$f":"14*Calculator!M7","v":1376.62}]
[25,2644.52,{"$f":"15*Calculator!M7","v":1474.95}]
[26,2742.85,{"$f":"16*Calculator!M7","v":1573.28}]
[27,2841.18,{"$f":"17*Calculator!M7","v":1671.61}]
[28,2939.51,{"$f":"18*Calculator!M7","v":1769.94}]
[29,3037.84,{"$f":"19*Calculator!M7","v":1868.27}]
[30,3136.17,{"$f":"20*Calculator!M7","v":1966.6}]
[31,3234.5,{"$f":"21*Calculator!M7","v":2064.9299999999998}]
[32,3332.83,{"$f":"22*Calculator!M7","v":2163.2599999999998}]
[33,3431.16,{"$f":"23*Calculator!M7","v":2261.59}]
[34,3529.49,{"$f":"24*Calculator!M7","v":2359.92}]
[35,3627.8199999999997,{"$f":"25*Calculator!M7","v":2458.25}]
[36,3726.1499999999996,{"$f":"26*Calculator!M7","v":2556.58}]
[37,3824.4799999999996,{"$f":"27*Calculator!M7","v":2654.91}]
[38,3922.8099999999995,{"$f":"28*Calculator!M7","v":2753.24}]
[39,4021.1400000000003,{"$f":"29*Calculator!M7","v":2851.57}]
[40,4119.47,{"$f":"30*Calculator!M7","v":2949.9}]
[41,4217.8,{"$f":"31*Calculator!M7","v":3048.23}]
[42,4316.13,{"$f":"32*Calculator!M7","v":3146.56}]
[43,4414.46,{"$f":"33*Calculator!M7","v":3244.89}]
[44,4512.79,{"$f":"34*Calculator!M7","v":3343.22}]
[45,4611.12,{"$f":"35*Calculator!M7","v":3441.5499999999997}]
[46,4709.45,{"$f":"36*Calculator!M7","v":3539.88}]
[47,4807.78,{"$f":"37*Calculator!M7","v":3638.21}]
[48,4906.1099999999997,{"$f":"38*Calculator!M7","v":3736.54}]
[49,5004.4399999999996,{"$f":"39*Calculator!M7","v":3834.87}]
[50,5102.7699999999995,{"$f":"40*Calculator!M7","v":3933.2}]
[51,{"$f":"$B$53+C54","v":5175.2199999999993},{"$f":"Calculator!O7","v":72.45}]
[52,5247.6699999999992,{"$f":"2*Calculator!O7","v":144.9}]
[53,5320.12,{"$f":"3*Calculator!O7","v":217.35000000000002}]
[54,5392.57,{"$f":"4*Calculator!O7","v":289.8}]
[55,5465.0199999999995,{"$f":"5*Calculator!O7","v":362.25}]
[56,5537.4699999999993,{"$f":"6*Calculator!O7","v":434.70000000000005}]
[57,5609.9199999999992,{"$f":"7*Calculator!O7","v":507.15000000000003}]
[58,{"$f":"$B$53+C61","v":5682.37},{"$f":"8*Calculator!O7","v":579.6}]
[59,{"$f":"$B$53+C62","v":5754.82},{"$f":"Calculator!O7*Sheet4!D62","v":652.05000000000007},9]
[60,{"$f":"$B$53+C63","v":5827.2699999999995},{"$f":"Calculator!O7*Sheet4!D63","v":724.5},10]
[61,5899.7199999999993,{"$f":"Calculator!$O$7*Sheet4!D64","v":796.95},11]
[62,5972.17,{"$f":"Calculator!$O$7*Sheet4!D65","v":869.40000000000009},12]
[63,6044.62,{"$f":"Calculator!$O$7*Sheet4!D66","v":941.85},13]
[64,6117.07,{"$f":"Calculator!$O$7*Sheet4!D67","v":1014.3000000000001},14]
[65,6189.5199999999995,{"$f":"Calculator!$O$7*Sheet4!D68","v":1086.75},15]
[66,6261.9699999999993,{"$f":"Calculator!$O$7*Sheet4!D69","v":1159.2},16]
[67,6334.42,{"$f":"Calculator!$O$7*Sheet4!D70","v":1231.6500000000001},17]
[68,6406.87,{"$f":"Calculator!$O$7*Sheet4!D71","v":1304.1000000000001},18]
[69,6479.32,{"$f":"Calculator!$O$7*Sheet4!D72","v":1376.55},19]
[70,6551.7699999999995,{"$f":"Calculator!$O$7*Sheet4!D73","v":1449},20]
[71,6624.2199999999993,{"$f":"Calculator!$O$7*Sheet4!D74","v":1521.45},21]
[72,6696.67,{"$f":"Calculator!$O$7*Sheet4!D75","v":1593.9},22]
[73,6769.12,{"$f":"Calculator!$O$7*Sheet4!D76","v":1666.3500000000001},23]
[74,6841.57,{"$f":"Calculator!$O$7*Sheet4!D77","v":1738.8000000000002},24]
[75,6914.0199999999995,{"$f":"Calculator!$O$7*Sheet4!D78","v":1811.25},25]
[76,6986.4699999999993,{"$f":"Calculator!$O$7*Sheet4!D79","v":1883.7},26]
[77,7058.92,{"$f":"Calculator!$O$7*Sheet4!D80","v":1956.15},27]
[78,7131.37,{"$f":"Calculator!$O$7*Sheet4!D81","v":2028.6000000000001},28]
[79,7203.82,{"$f":"Calculator!$O$7*Sheet4!D82","v":2101.0500000000002},29]
[80,7276.2699999999995,{"$f":"Calculator!$O$7*Sheet4!D83","v":2173.5},30]
[81,7348.7199999999993,{"$f":"Calculator!$O$7*Sheet4!D84","v":2245.9500000000003},31]
[82,7421.17,{"$f":"Calculator!$O$7*Sheet4!D85","v":2318.4},32]
[83,7493.619999999999,{"$f":"Calculator!$O$7*Sheet4!D86","v":2390.85},33]
[84,7566.07,{"$f":"Calculator!$O$7*Sheet4!D87","v":2463.3000000000002},34]
[85,7638.5199999999995,{"$f":"Calculator!$O$7*Sheet4!D88","v":2535.75},35]
[86,7710.9699999999993,{"$f":"Calculator!$O$7*Sheet4!D89","v":2608.2000000000003},36]
[87,7783.42,{"$f":"Calculator!$O$7*Sheet4!D90","v":2680.65},37]
[88,7855.869999999999,{"$f":"Calculator!$O$7*Sheet4!D91","v":2753.1},38]
[89,7928.32,{"$f":"Calculator!$O$7*Sheet4!D92","v":2825.55},39]
[90,8000.7699999999995,{"$f":"Calculator!$O$7*Sheet4!D93","v":2898},40]
[91,8073.2199999999993,{"$f":"Calculator!$O$7*Sheet4!D94","v":2970.4500000000003},41]
[92,8145.67,{"$f":"Calculator!$O$7*Sheet4!D95","v":3042.9},42]
[93,8218.119999999999,{"$f":"Calculator!$O$7*Sheet4!D96","v":3115.35},43]
[94,8290.57,{"$f":"Calculator!$O$7*Sheet4!D97","v":3187.8},44]
[95,8363.02,{"$f":"Calculator!$O$7*Sheet4!D98","v":3260.25},45]
[96,8435.4699999999993,{"$f":"Calculator!$O$7*Sheet4!D99","v":3332.7000000000003},46]
[97,8507.92,{"$f":"Calculator!$O$7*Sheet4!D100","v":3405.15},47]
[98,8580.369999999999,{"$f":"Calculator!$O$7*Sheet4!D101","v":3477.6000000000004},48]
[99,8652.82,{"$f":"Calculator!$O$7*Sheet4!D102","v":3550.05},49]
[100,8725.27,{"$f":"Calculator!$O$7*Sheet4!D103","v":3622.5},50]
[101,8797.7199999999993,{"$f":"Calculator!$O$7*Sheet4!D104","v":3694.9500000000003},51]
[102,8870.17,{"$f":"Calculator!$O$7*Sheet4!D105","v":3767.4},52]
[103,8942.619999999999,{"$f":"Calculator!$O$7*Sheet4!D106","v":3839.8500000000004},53]
[104,9015.07,{"$f":"Calculator!$O$7*Sheet4!D107","v":3912.3},54]
[105,9087.52,{"$f":"Calculator!$O$7*Sheet4!D108","v":3984.75},55]
[106,9159.9699999999993,{"$f":"Calculator!$O$7*Sheet4!D109","v":4057.2000000000003},56]
[107,9232.42,{"$f":"Calculator!$O$7*Sheet4!D110","v":4129.6500000000005},57]
[108,9304.869999999999,{"$f":"Calculator!$O$7*Sheet4!D111","v":4202.1000000000004},58]
[109,9377.32,{"$f":"Calculator!$O$7*Sheet4!D112","v":4274.55},59]
[110,9449.77,{"$f":"Calculator!$O$7*Sheet4!D113","v":4347},60]
[111,9522.2199999999993,{"$f":"Calculator!$O$7*Sheet4!D114","v":4419.45},61]
[112,9594.67,{"$f":"Calculator!$O$7*Sheet4!D115","v":4491.9000000000005},62]
[113,9667.119999999999,{"$f":"Calculator!$O$7*Sheet4!D116","v":4564.3500000000004},63]
[114,9739.57,{"$f":"Calculator!$O$7*Sheet4!D117","v":4636.8},64]
[115,9812.02,{"$f":"Calculator!$O$7*Sheet4!D118","v":4709.25},65]
[116,9884.4699999999993,{"$f":"Calculator!$O$7*Sheet4!D119","v":4781.7},66]
[117,9956.92,{"$f":"Calculator!$O$7*Sheet4!D120","v":4854.1500000000005},67]
[118,10029.369999999999,{"$f":"Calculator!$O$7*Sheet4!D121","v":4926.6000000000004},68]
[119,10101.82,{"$f":"Calculator!$O$7*Sheet4!D122","v":4999.05},69]
[120,10174.27,{"$f":"Calculator!$O$7*Sheet4!D123","v":5071.5},70]
[121,10246.719999999999,{"$f":"Calculator!$O$7*Sheet4!D124","v":5143.95},71]
[122,10319.17,{"$f":"Calculator!$O$7*Sheet4!D125","v":5216.4000000000005},72]
[123,10391.619999999999,{"$f":"Calculator!$O$7*Sheet4!D126","v":5288.85},73]
[124,{"$f":"$B$53+C127","v":10464.07},{"$f":"Calculator!$O$7*Sheet4!D127","v":5361.3},74]
[125,10536.52,{"$f":"Calculator!$O$7*Sheet4!D128","v":5433.75},75]
[126,10608.97,{"$f":"Calculator!$O$7*Sheet4!D129","v":5506.2},76]
[127,10681.42,{"$f":"Calculator!$O$7*Sheet4!D130","v":5578.6500000000005},77]
[128,10753.869999999999,{"$f":"Calculator!$O$7*Sheet4!D131","v":5651.1},78]
[129,10826.32,{"$f":"Calculator!$O$7*Sheet4!D132","v":5723.55},79]
[130,10898.77,{"$f":"Calculator!$O$7*Sheet4!D133","v":5796},80]
[131,10971.22,{"$f":"Calculator!$O$7*Sheet4!D134","v":5868.45},81]
[132,11043.67,{"$f":"Calculator!$O$7*Sheet4!D135","v":5940.9000000000005},82]
[133,11116.119999999999,{"$f":"Calculator!$O$7*Sheet4!D136","v":6013.35},83]
[134,11188.57,{"$f":"Calculator!$O$7*Sheet4!D137","v":6085.8},84]
[135,11261.02,{"$f":"Calculator!$O$7*Sheet4!D138","v":6158.25},85]
[136,11333.47,{"$f":"Calculator!$O$7*Sheet4!D139","v":6230.7},86]
[137,11405.92,{"$f":"Calculator!$O$7*Sheet4!D140","v":6303.1500000000005},87]
[138,11478.369999999999,{"$f":"Calculator!$O$7*Sheet4!D141","v":6375.6},88]
[139,11550.82,{"$f":"Calculator!$O$7*Sheet4!D142","v":6448.05},89]
[140,11623.27,{"$f":"Calculator!$O$7*Sheet4!D143","v":6520.5},90]
[141,11695.72,{"$f":"Calculator!$O$7*Sheet4!D144","v":6592.95},91]
[142,11768.17,{"$f":"Calculator!$O$7*Sheet4!D145","v":6665.4000000000005},92]
[143,11840.619999999999,{"$f":"Calculator!$O$7*Sheet4!D146","v":6737.85},93]
[144,11913.07,{"$f":"Calculator!$O$7*Sheet4!D147","v":6810.3},94]
[145,11985.52,{"$f":"Calculator!$O$7*Sheet4!D148","v":6882.75},95]
[146,12057.970000000001,{"$f":"Calculator!$O$7*Sheet4!D149","v":6955.2000000000007},96]
[147,12130.42,{"$f":"Calculator!$O$7*Sheet4!D150","v":7027.6500000000005},97]
[148,12202.869999999999,{"$f":"Calculator!$O$7*Sheet4!D151","v":7100.1},98]
[149,12275.32,{"$f":"Calculator!$O$7*Sheet4!D152","v":7172.55},99]
[150,12347.77,{"$f":"Calculator!$O$7*Sheet4!D153","v":7245},100]
[151,{"$f":"$B$153+C154","v":12399.52},{"$f":"D154*Calculator!$Q$7","v":51.75},1]
[152,{"$f":"$B$153+C155","v":12451.27},{"$f":"D155*Calculator!$Q$7","v":103.5},2]
[153,12503.02,{"$f":"D156*Calculator!$Q$7","v":155.25},3]
[154,12554.77,{"$f":"D157*Calculator!$Q$7","v":207},4]
[155,12606.52,{"$f":"D158*Calculator!$Q$7","v":258.75},5]
[156,12658.27,{"$f":"D159*Calculator!$Q$7","v":310.5},6]
[157,12710.02,{"$f":"D160*Calculator!$Q$7","v":362.25},7]
[158,12761.77,{"$f":"D161*Calculator!$Q$7","v":414},8]
[159,12813.52,{"$f":"D162*Calculator!$Q$7","v":465.75},9]
[160,12865.27,{"$f":"D163*Calculator!$Q$7","v":517.5},10]
[161,12917.02,{"$f":"D164*Calculator!$Q$7","v":569.25},11]
[162,12968.77,{"$f":"D165*Calculator!$Q$7","v":621},12]
[163,13020.52,{"$f":"D166*Calculator!$Q$7","v":672.75},13]
[164,13072.27,{"$f":"D167*Calculator!$Q$7","v":724.5},14]
[165,13124.02,{"$f":"D168*Calculator!$Q$7","v":776.25},15]
[166,13175.77,{"$f":"D169*Calculator!$Q$7","v":828},16]
[167,13227.52,{"$f":"D170*Calculator!$Q$7","v":879.75},17]
[168,13279.27,{"$f":"D171*Calculator!$Q$7","v":931.5},18]
[169,13331.02,{"$f":"D172*Calculator!$Q$7","v":983.25},19]
[170,13382.77,{"$f":"D173*Calculator!$Q$7","v":1035},20]
[171,13434.52,{"$f":"D174*Calculator!$Q$7","v":1086.75},21]
[172,13486.27,{"$f":"D175*Calculator!$Q$7","v":1138.5},22]
[173,13538.02,{"$f":"D176*Calculator!$Q$7","v":1190.25},23]
[174,13589.77,{"$f":"D177*Calculator!$Q$7","v":1242},24]
[175,13641.52,{"$f":"D178*Calculator!$Q$7","v":1293.75},25]
[176,13693.27,{"$f":"D179*Calculator!$Q$7","v":1345.5},26]
[177,13745.02,{"$f":"D180*Calculator!$Q$7","v":1397.25},27]
[178,13796.77,{"$f":"D181*Calculator!$Q$7","v":1449},28]
[179,13848.52,{"$f":"D182*Calculator!$Q$7","v":1500.75},29]
[180,13900.27,{"$f":"D183*Calculator!$Q$7","v":1552.5},30]
[181,13952.02,{"$f":"D184*Calculator!$Q$7","v":1604.25},31]
[182,14003.77,{"$f":"D185*Calculator!$Q$7","v":1656},32]
[183,14055.52,{"$f":"D186*Calculator!$Q$7","v":1707.75},33]
[184,14107.27,{"$f":"D187*Calculator!$Q$7","v":1759.5},34]
[185,14159.02,{"$f":"D188*Calculator!$Q$7","v":1811.25},35]
[186,14210.77,{"$f":"D189*Calculator!$Q$7","v":1863},36]
[187,14262.52,{"$f":"D190*Calculator!$Q$7","v":1914.75},37]
[188,14314.27,{"$f":"D191*Calculator!$Q$7","v":1966.5},38]
[189,14366.02,{"$f":"D192*Calculator!$Q$7","v":2018.25},39]
[190,14417.77,{"$f":"D193*Calculator!$Q$7","v":2070},40]
[191,14469.52,{"$f":"D194*Calculator!$Q$7","v":2121.75},41]
[192,14521.27,{"$f":"D195*Calculator!$Q$7","v":2173.5},42]
[193,14573.02,{"$f":"D196*Calculator!$Q$7","v":2225.25},43]
[194,14624.77,{"$f":"D197*Calculator!$Q$7","v":2277},44]
[195,14676.52,{"$f":"D198*Calculator!$Q$7","v":2328.75},45]
[196,14728.27,{"$f":"D199*Calculator!$Q$7","v":2380.5},46]
[197,14780.02,{"$f":"D200*Calculator!$Q$7","v":2432.25},47]
[198,14831.77,{"$f":"D201*Calculator!$Q$7","v":2484},48]
[199,14883.52,{"$f":"D202*Calculator!$Q$7","v":2535.75},49]
[200,14935.27,{"$f":"D203*Calculator!$Q$7","v":2587.5},50]
[201,14987.02,{"$f":"D204*Calculator!$Q$7","v":2639.25},51]
[202,15038.77,{"$f":"D205*Calculator!$Q$7","v":2691},52]
[203,15090.52,{"$f":"D206*Calculator!$Q$7","v":2742.75},53]
[204,15142.27,{"$f":"D207*Calculator!$Q$7","v":2794.5},54]
[205,15194.02,{"$f":"D208*Calculator!$Q$7","v":2846.25},55]
[206,15245.77,{"$f":"D209*Calculator!$Q$7","v":2898},56]
[207,15297.52,{"$f":"D210*Calculator!$Q$7","v":2949.75},57]
[208,15349.27,{"$f":"D211*Calculator!$Q$7","v":3001.5},58]
[209,15401.02,{"$f":"D212*Calculator!$Q$7","v":3053.25},59]
[210,15452.77,{"$f":"D213*Calculator!$Q$7","v":3105},60]
[211,15504.52,{"$f":"D214*Calculator!$Q$7","v":3156.75},61]
[212,15556.27,{"$f":"D215*Calculator!$Q$7","v":3208.5},62]
[213,15608.02,{"$f":"D216*Calculator!$Q$7","v":3260.25},63]
[214,15659.77,{"$f":"D217*Calculator!$Q$7","v":3312},64]
[215,15711.52,{"$f":"D218*Calculator!$Q$7","v":3363.75},65]
[216,{"$f":"$B$153+C219","v":15763.27},{"$f":"D219*Calculator!$Q$7","v":3415.5},66]
[217,15815.02,{"$f":"D220*Calculator!$Q$7","v":3467.25},67]
[218,15866.77,{"$f":"D221*Calculator!$Q$7","v":3519},68]
[219,15918.52,{"$f":"D222*Calculator!$Q$7","v":3570.75},69]
[220,15970.27,{"$f":"D223*Calculator!$Q$7","v":3622.5},70]
[221,16022.02,{"$f":"D224*Calculator!$Q$7","v":3674.25},71]
[222,16073.77,{"$f":"D225*Calculator!$Q$7","v":3726},72]
[223,16125.52,{"$f":"D226*Calculator!$Q$7","v":3777.75},73]
[224,16177.27,{"$f":"D227*Calculator!$Q$7","v":3829.5},74]
[225,16229.02,{"$f":"D228*Calculator!$Q$7","v":3881.25},75]
[226,16280.77,{"$f":"D229*Calculator!$Q$7","v":3933},76]
[227,16332.52,{"$f":"D230*Calculator!$Q$7","v":3984.75},77]
[228,16384.27,{"$f":"D231*Calculator!$Q$7","v":4036.5},78]
[229,16436.02,{"$f":"D232*Calculator!$Q$7","v":4088.25},79]
[230,16487.77,{"$f":"D233*Calculator!$Q$7","v":4140},80]
[231,16539.52,{"$f":"D234*Calculator!$Q$7","v":4191.75},81]
[232,16591.27,{"$f":"D235*Calculator!$Q$7","v":4243.5},82]
[233,16643.02,{"$f":"D236*Calculator!$Q$7","v":4295.25},83]
[234,16694.77,{"$f":"D237*Calculator!$Q$7","v":4347},84]
[235,16746.52,{"$f":"D238*Calculator!$Q$7","v":4398.75},85]
[236,16798.27,{"$f":"D239*Calculator!$Q$7","v":4450.5},86]
[237,16850.02,{"$f":"D240*Calculator!$Q$7","v":4502.25},87]
[238,16901.77,{"$f":"D241*Calculator!$Q$7","v":4554},88]
[239,16953.52,{"$f":"D242*Calculator!$Q$7","v":4605.75},89]
[240,17005.27,{"$f":"D243*Calculator!$Q$7","v":4657.5},90]
[241,17057.02,{"$f":"D244*Calculator!$Q$7","v":4709.25},91]
[242,17108.77,{"$f":"D245*Calculator!$Q$7","v":4761},92]
[243,17160.52,{"$f":"D246*Calculator!$Q$7","v":4812.75},93]
[244,17212.27,{"$f":"D247*Calculator!$Q$7","v":4864.5},94]
[245,17264.02,{"$f":"D248*Calculator!$Q$7","v":4916.25},95]
[246,17315.77,{"$f":"D249*Calculator!$Q$7","v":4968},96]
[247,17367.52,{"$f":"D250*Calculator!$Q$7","v":5019.75},97]
[248,17419.27,{"$f":"D251*Calculator!$Q$7","v":5071.5},98]
[249,17471.02,{"$f":"D252*Calculator!$Q$7","v":5123.25},99]
[250,17522.77,{"$f":"D253*Calculator!$Q$7","v":5175},100]
[251,{"$f":"$B$253+C254","v":17533.12},{"$f":"Calculator!$S$7*Sheet4!D254","v":10.35},1]
[252,{"$f":"$B$253+C255","v":17543.47},{"$f":"Calculator!$S$7*Sheet4!D255","v":20.7},2]
[253,{"$f":"$B$253+C256","v":17553.82},{"$f":"Calculator!$S$7*Sheet4!D256","v":31.049999999999997},3]
[254,17564.170000000002,{"$f":"Calculator!$S$7*Sheet4!D257","v":41.4},4]
[255,17574.52,{"$f":"Calculator!$S$7*Sheet4!D258","v":51.75},5]
[256,17584.87,{"$f":"Calculator!$S$7*Sheet4!D259","v":62.099999999999994},6]
[257,17595.22,{"$f":"Calculator!$S$7*Sheet4!D260","v":72.45},7]
[258,17605.57,{"$f":"Calculator!$S$7*Sheet4!D261","v":82.8},8]
[259,17615.920000000002,{"$f":"Calculator!$S$7*Sheet4!D262","v":93.149999999999991},9]
[260,17626.27,{"$f":"Calculator!$S$7*Sheet4!D263","v":103.5},10]
[261,17636.62,{"$f":"Calculator!$S$7*Sheet4!D264","v":113.85},11]
[262,17646.97,{"$f":"Calculator!$S$7*Sheet4!D265","v":124.19999999999999},12]
[263,17657.32,{"$f":"Calculator!$S$7*Sheet4!D266","v":134.54999999999998},13]
[264,17667.670000000002,{"$f":"Calculator!$S$7*Sheet4!D267","v":144.9},14]
[265,17678.02,{"$f":"Calculator!$S$7*Sheet4!D268","v":155.25},15]
[266,17688.37,{"$f":"Calculator!$S$7*Sheet4!D269","v":165.6},16]
[267,17698.72,{"$f":"Calculator!$S$7*Sheet4!D270","v":175.95},17]
[268,17709.07,{"$f":"Calculator!$S$7*Sheet4!D271","v":186.29999999999998},18]
[269,17719.420000000002,{"$f":"Calculator!$S$7*Sheet4!D272","v":196.65},19]
[270,17729.77,{"$f":"Calculator!$S$7*Sheet4!D273","v":207},20]
[271,17740.12,{"$f":"Calculator!$S$7*Sheet4!D274","v":217.35},21]
[272,17750.47,{"$f":"Calculator!$S$7*Sheet4!D275","v":227.7},22]
[273,17760.82,{"$f":"Calculator!$S$7*Sheet4!D276","v":238.04999999999998},23]
[274,17771.170000000002,{"$f":"Calculator!$S$7*Sheet4!D277","v":248.39999999999998},24]
[275,17781.52,{"$f":"Calculator!$S$7*Sheet4!D278","v":258.75},25]
[276,17791.87,{"$f":"Calculator!$S$7*Sheet4!D279","v":269.09999999999997},26]
[277,17802.22,{"$f":"Calculator!$S$7*Sheet4!D280","v":279.45},27]
[278,17812.57,{"$f":"Calculator!$S$7*Sheet4!D281","v":289.8},28]
[279,17822.920000000002,{"$f":"Calculator!$S$7*Sheet4!D282","v":300.14999999999998},29]
[280,17833.27,{"$f":"Calculator!$S$7*Sheet4!D283","v":310.5},30]
[281,17843.62,{"$f":"Calculator!$S$7*Sheet4!D284","v":320.84999999999997},31]
[282,17853.97,{"$f":"Calculator!$S$7*Sheet4!D285","v":331.2},32]
[283,17864.32,{"$f":"Calculator!$S$7*Sheet4!D286","v":341.55},33]
[284,17874.670000000002,{"$f":"Calculator!$S$7*Sheet4!D287","v":351.9},34]
[285,17885.02,{"$f":"Calculator!$S$7*Sheet4!D288","v":362.25},35]
[286,17895.37,{"$f":"Calculator!$S$7*Sheet4!D289","v":372.59999999999997},36]
[287,17905.72,{"$f":"Calculator!$S$7*Sheet4!D290","v":382.95},37]
[288,17916.07,{"$f":"Calculator!$S$7*Sheet4!D291","v":393.3},38]
[289,17926.420000000002,{"$f":"Calculator!$S$7*Sheet4!D292","v":403.65},39]
[290,17936.77,{"$f":"Calculator!$S$7*Sheet4!D293","v":414},40]
[291,17947.12,{"$f":"Calculator!$S$7*Sheet4!D294","v":424.34999999999997},41]
[292,17957.47,{"$f":"Calculator!$S$7*Sheet4!D295","v":434.7},42]
[293,17967.82,{"$f":"Calculator!$S$7*Sheet4!D296","v":445.05},43]
[294,17978.170000000002,{"$f":"Calculator!$S$7*Sheet4!D297","v":455.4},44]
[295,17988.52,{"$f":"Calculator!$S$7*Sheet4!D298","v":465.75},45]
[296,17998.87,{"$f":"Calculator!$S$7*Sheet4!D299","v":476.09999999999997},46]
[297,18009.22,{"$f":"Calculator!$S$7*Sheet4!D300","v":486.45},47]
[298,18019.57,{"$f":"Calculator!$S$7*Sheet4!D301","v":496.79999999999995},48]
[299,18029.920000000002,{"$f":"Calculator!$S$7*Sheet4!D302","v":507.15},49]
[300,18040.27,{"$f":"Calculator!$S$7*Sheet4!D303","v":517.5},50]
[301,18050.62,{"$f":"Calculator!$S$7*Sheet4!D304","v":527.85},51]
[302,18060.97,{"$f":"Calculator!$S$7*Sheet4!D305","v":538.19999999999993},52]
[303,18071.32,{"$f":"Calculator!$S$7*Sheet4!D306","v":548.54999999999995},53]
[304,18081.670000000002,{"$f":"Calculator!$S$7*Sheet4!D307","v":558.9},54]
[305,18092.02,{"$f":"Calculator!$S$7*Sheet4!D308","v":569.25},55]
[306,18102.37,{"$f":"Calculator!$S$7*Sheet4!D309","v":579.6},56]
[307,18112.72,{"$f":"Calculator!$S$7*Sheet4!D310","v":589.94999999999993},57]
[308,18123.07,{"$f":"Calculator!$S$7*Sheet4!D311","v":600.29999999999995},58]
[309,18133.420000000002,{"$f":"Calculator!$S$7*Sheet4!D312","v":610.65},59]
[310,18143.77,{"$f":"Calculator!$S$7*Sheet4!D313","v":621},60]
[311,18154.12,{"$f":"Calculator!$S$7*Sheet4!D314","v":631.35},61]
[312,18164.47,{"$f":"Calculator!$S$7*Sheet4!D315","v":641.69999999999993},62]
[313,18174.82,{"$f":"Calculator!$S$7*Sheet4!D316","v":652.04999999999995},63]
[314,18185.170000000002,{"$f":"Calculator!$S$7*Sheet4!D317","v":662.4},64]
[315,18195.52,{"$f":"Calculator!$S$7*Sheet4!D318","v":672.75},65]
[316,18205.87,{"$f":"Calculator!$S$7*Sheet4!D319","v":683.1},66]
[317,{"$f":"$B$253+C320","v":18216.22},{"$f":"Calculator!$S$7*Sheet4!D320","v":693.44999999999993},67]
[318,18226.57,{"$f":"Calculator!$S$7*Sheet4!D321","v":703.8},68]
[319,18236.920000000002,{"$f":"Calculator!$S$7*Sheet4!D322","v":714.15},69]
[320,18247.27,{"$f":"Calculator!$S$7*Sheet4!D323","v":724.5},70]
[321,18257.62,{"$f":"Calculator!$S$7*Sheet4!D324","v":734.85},71]
[322,18267.97,{"$f":"Calculator!$S$7*Sheet4!D325","v":745.19999999999993},72]
[323,18278.32,{"$f":"Calculator!$S$7*Sheet4!D326","v":755.55},73]
[324,18288.670000000002,{"$f":"Calculator!$S$7*Sheet4!D327","v":765.9},74]
[325,18299.02,{"$f":"Calculator!$S$7*Sheet4!D328","v":776.25},75]
[326,18309.37,{"$f":"Calculator!$S$7*Sheet4!D329","v":786.6},76]
[327,18319.72,{"$f":"Calculator!$S$7*Sheet4!D330","v":796.94999999999993},77]
[328,18330.07,{"$f":"Calculator!$S$7*Sheet4!D331","v":807.3},78]
[329,18340.420000000002,{"$f":"Calculator!$S$7*Sheet4!D332","v":817.65},79]
[330,18350.77,{"$f":"Calculator!$S$7*Sheet4!D333","v":828},80]
[331,18361.12,{"$f":"Calculator!$S$7*Sheet4!D334","v":838.35},81]
[332,18371.47,{"$f":"Calculator!$S$7*Sheet4!D335","v":848.69999999999993},82]
[333,18381.82,{"$f":"Calculator!$S$7*Sheet4!D336","v":859.05},83]
[334,18392.170000000002,{"$f":"Calculator!$S$7*Sheet4!D337","v":869.4},84]
[335,18402.52,{"$f":"Calculator!$S$7*Sheet4!D338","v":879.75},85]
[336,18412.87,{"$f":"Calculator!$S$7*Sheet4!D339","v":890.1},86]
[337,18423.22,{"$f":"Calculator!$S$7*Sheet4!D340","v":900.44999999999993},87]
[338,18433.57,{"$f":"Calculator!$S$7*Sheet4!D341","v":910.8},88]
[339,18443.920000000002,{"$f":"Calculator!$S$7*Sheet4!D342","v":921.15},89]
[340,18454.27,{"$f":"Calculator!$S$7*Sheet4!D343","v":931.5},90]
[341,18464.62,{"$f":"Calculator!$S$7*Sheet4!D344","v":941.85},91]
[342,18474.97,{"$f":"Calculator!$S$7*Sheet4!D345","v":952.19999999999993},92]
[343,18485.32,{"$f":"Calculator!$S$7*Sheet4!D346","v":962.55},93]
[344,18495.670000000002,{"$f":"Calculator!$S$7*Sheet4!D347","v":972.9},94]
[345,18506.02,{"$f":"Calculator!$S$7*Sheet4!D348","v":983.25},95]
[346,18516.37,{"$f":"Calculator!$S$7*Sheet4!D349","v":993.59999999999991},96]
[347,18526.72,{"$f":"Calculator!$S$7*Sheet4!D350","v":1003.9499999999999},97]
[348,18537.07,{"$f":"Calculator!$S$7*Sheet4!D351","v":1014.3},98]
[349,18547.420000000002,{"$f":"Calculator!$S$7*Sheet4!D352","v":1024.6499999999999},99]
[350,18557.77,{"$f":"Calculator!$S$7*Sheet4!D353","v":1035},100]
[351,18568.12,{"$f":"Calculator!$S$7*Sheet4!D354","v":1045.3499999999999},101]
[352,18578.47,{"$f":"Calculator!$S$7*Sheet4!D355","v":1055.7},102]
[353,18588.82,{"$f":"Calculator!$S$7*Sheet4!D356","v":1066.05},103]
[354,18599.170000000002,{"$f":"Calculator!$S$7*Sheet4!D357","v":1076.3999999999999},104]
[355,18609.52,{"$f":"Calculator!$S$7*Sheet4!D358","v":1086.75},105]
[356,18619.87,{"$f":"Calculator!$S$7*Sheet4!D359","v":1097.0999999999999},106]
[357,18630.22,{"$f":"Calculator!$S$7*Sheet4!D360","v":1107.45},107]
[358,18640.57,{"$f":"Calculator!$S$7*Sheet4!D361","v":1117.8},108]
[359,18650.920000000002,{"$f":"Calculator!$S$7*Sheet4!D362","v":1128.1499999999999},109]
[360,18661.27,{"$f":"Calculator!$S$7*Sheet4!D363","v":1138.5},110]
[361,18671.62,{"$f":"Calculator!$S$7*Sheet4!D364","v":1148.8499999999999},111]
[362,18681.97,{"$f":"Calculator!$S$7*Sheet4!D365","v":1159.2},112]
[363,18692.32,{"$f":"Calculator!$S$7*Sheet4!D366","v":1169.55},113]
[364,18702.670000000002,{"$f":"Calculator!$S$7*Sheet4!D367","v":1179.8999999999999},114]
[365,18713.02,{"$f":"Calculator!$S$7*Sheet4!D368","v":1190.25},115]
[366,18723.37,{"$f":"Calculator!$S$7*Sheet4!D369","v":1200.5999999999999},116]
[367,18733.72,{"$f":"Calculator!$S$7*Sheet4!D370","v":1210.95},117]
[368,18744.07,{"$f":"Calculator!$S$7*Sheet4!D371","v":1221.3},118]
[369,18754.420000000002,{"$f":"Calculator!$S$7*Sheet4!D372","v":1231.6499999999999},119]
[370,18764.77,{"$f":"Calculator!$S$7*Sheet4!D373","v":1242},120]
[371,18775.12,{"$f":"Calculator!$S$7*Sheet4!D374","v":1252.3499999999999},121]
[372,18785.47,{"$f":"Calculator!$S$7*Sheet4!D375","v":1262.7},122]
[373,18795.82,{"$f":"Calculator!$S$7*Sheet4!D376","v":1273.05},123]
[374,18806.170000000002,{"$f":"Calculator!$S$7*Sheet4!D377","v":1283.3999999999999},124]
[375,18816.52,{"$f":"Calculator!$S$7*Sheet4!D378","v":1293.75},125]
[376,18826.87,{"$f":"Calculator!$S$7*Sheet4!D379","v":1304.0999999999999},126]
[377,18837.22,{"$f":"Calculator!$S$7*Sheet4!D380","v":1314.45},127]
[378,18847.57,{"$f":"Calculator!$S$7*Sheet4!D381","v":1324.8},128]
[379,18857.920000000002,{"$f":"Calculator!$S$7*Sheet4!D382","v":1335.1499999999999},129]
[380,18868.27,{"$f":"Calculator!$S$7*Sheet4!D383","v":1345.5},130]
[381,{"$f":"$B$253+C384","v":18878.62},{"$f":"Calculator!$S$7*Sheet4!D384","v":1355.85},131]
[382,18888.97,{"$f":"Calculator!$S$7*Sheet4!D385","v":1366.2},132]
[383,18899.32,{"$f":"Calculator!$S$7*Sheet4!D386","v":1376.55},133]
[384,18909.670000000002,{"$f":"Calculator!$S$7*Sheet4!D387","v":1386.8999999999999},134]
[385,18920.02,{"$f":"Calculator!$S$7*Sheet4!D388","v":1397.25},135]
[386,18930.37,{"$f":"Calculator!$S$7*Sheet4!D389","v":1407.6},136]
[387,18940.72,{"$f":"Calculator!$S$7*Sheet4!D390","v":1417.95},137]
[388,18951.07,{"$f":"Calculator!$S$7*Sheet4!D391","v":1428.3},138]
[389,18961.420000000002,{"$f":"Calculator!$S$7*Sheet4!D392","v":1438.6499999999999},139]
[390,18971.77,{"$f":"Calculator!$S$7*Sheet4!D393","v":1449},140]
[391,18982.12,{"$f":"Calculator!$S$7*Sheet4!D394","v":1459.35},141]
[392,18992.47,{"$f":"Calculator!$S$7*Sheet4!D395","v":1469.7},142]
[393,19002.82,{"$f":"Calculator!$S$7*Sheet4!D396","v":1480.05},143]
[394,19013.170000000002,{"$f":"Calculator!$S$7*Sheet4!D397","v":1490.3999999999999},144]
[395,19023.52,{"$f":"Calculator!$S$7*Sheet4!D398","v":1500.75},145]
[396,19033.87,{"$f":"Calculator!$S$7*Sheet4!D399","v":1511.1},146]
[397,19044.22,{"$f":"Calculator!$S$7*Sheet4!D400","v":1521.45},147]
[398,19054.57,{"$f":"Calculator!$S$7*Sheet4!D401","v":1531.8},148]
[399,19064.920000000002,{"$f":"Calculator!$S$7*Sheet4!D402","v":1542.1499999999999},149]
[400,19075.27,{"$f":"Calculator!$S$7*Sheet4!D403","v":1552.5},150]
[401,19085.62,{"$f":"Calculator!$S$7*Sheet4!D404","v":1562.85},151]
[402,19095.97,{"$f":"Calculator!$S$7*Sheet4!D405","v":1573.2},152]
[403,19106.32,{"$f":"Calculator!$S$7*Sheet4!D406","v":1583.55},153]
[404,19116.670000000002,{"$f":"Calculator!$S$7*Sheet4!D407","v":1593.8999999999999},154]
[405,19127.02,{"$f":"Calculator!$S$7*Sheet4!D408","v":1604.25},155]
[406,19137.37,{"$f":"Calculator!$S$7*Sheet4!D409","v":1614.6},156]
[407,19147.72,{"$f":"Calculator!$S$7*Sheet4!D410","v":1624.95},157]
[408,19158.07,{"$f":"Calculator!$S$7*Sheet4!D411","v":1635.3},158]
[409,19168.420000000002,{"$f":"Calculator!$S$7*Sheet4!D412","v":1645.6499999999999},159]
[410,19178.77,{"$f":"Calculator!$S$7*Sheet4!D413","v":1656},160]
[411,19189.12,{"$f":"Calculator!$S$7*Sheet4!D414","v":1666.35},161]
[412,19199.47,{"$f":"Calculator!$S$7*Sheet4!D415","v":1676.7},162]
[413,19209.82,{"$f":"Calculator!$S$7*Sheet4!D416","v":1687.05},163]
[414,19220.170000000002,{"$f":"Calculator!$S$7*Sheet4!D417","v":1697.3999999999999},164]
[415,19230.52,{"$f":"Calculator!$S$7*Sheet4!D418","v":1707.75},165]
[416,19240.87,{"$f":"Calculator!$S$7*Sheet4!D419","v":1718.1},166]
[417,19251.22,{"$f":"Calculator!$S$7*Sheet4!D420","v":1728.45},167]
[418,19261.57,{"$f":"Calculator!$S$7*Sheet4!D421","v":1738.8},168]
[419,19271.920000000002,{"$f":"Calculator!$S$7*Sheet4!D422","v":1749.1499999999999},169]
[420,19282.27,{"$f":"Calculator!$S$7*Sheet4!D423","v":1759.5},170]
[421,19292.62,{"$f":"Calculator!$S$7*Sheet4!D424","v":1769.85},171]
[422,19302.97,{"$f":"Calculator!$S$7*Sheet4!D425","v":1780.2},172]
[423,19313.32,{"$f":"Calculator!$S$7*Sheet4!D426","v":1790.55},173]
[424,19323.670000000002,{"$f":"Calculator!$S$7*Sheet4!D427","v":1800.8999999999999},174]
[425,19334.02,{"$f":"Calculator!$S$7*Sheet4!D428","v":1811.25},175]
[426,19344.37,{"$f":"Calculator!$S$7*Sheet4!D429","v":1821.6},176]
[427,19354.72,{"$f":"Calculator!$S$7*Sheet4!D430","v":1831.95},177]
[428,19365.07,{"$f":"Calculator!$S$7*Sheet4!D431","v":1842.3},178]
[429,19375.420000000002,{"$f":"Calculator!$S$7*Sheet4!D432","v":1852.6499999999999},179]
[430,19385.77,{"$f":"Calculator!$S$7*Sheet4!D433","v":1863},180]
[431,19396.12,{"$f":"Calculator!$S$7*Sheet4!D434","v":1873.35},181]
[432,19406.47,{"$f":"Calculator!$S$7*Sheet4!D435","v":1883.7},182]
[433,19416.82,{"$f":"Calculator!$S$7*Sheet4!D436","v":1894.05},183]
[434,19427.170000000002,{"$f":"Calculator!$S$7*Sheet4!D437","v":1904.3999999999999},184]
[435,19437.52,{"$f":"Calculator!$S$7*Sheet4!D438","v":1914.75},185]
[436,19447.87,{"$f":"Calculator!$S$7*Sheet4!D439","v":1925.1},186]
[437,19458.22,{"$f":"Calculator!$S$7*Sheet4!D440","v":1935.45},187]
[438,19468.57,{"$f":"Calculator!$S$7*Sheet4!D441","v":1945.8},188]
[439,19478.920000000002,{"$f":"Calculator!$S$7*Sheet4!D442","v":1956.1499999999999},189]
[440,19489.27,{"$f":"Calculator!$S$7*Sheet4!D443","v":1966.5},190]
[441,19499.62,{"$f":"Calculator!$S$7*Sheet4!D444","v":1976.85},191]
[442,19509.97,{"$f":"Calculator!$S$7*Sheet4!D445","v":1987.1999999999998},192]
[443,19520.32,{"$f":"Calculator!$S$7*Sheet4!D446","v":1997.55},193]
[444,19530.670000000002,{"$f":"Calculator!$S$7*Sheet4!D447","v":2007.8999999999999},194]
[445,{"$f":"$B$253+C448","v":19541.02},{"$f":"Calculator!$S$7*Sheet4!D448","v":2018.25},195]
[446,19551.37,{"$f":"Calculator!$S$7*Sheet4!D449","v":2028.6},196]
[447,19561.72,{"$f":"Calculator!$S$7*Sheet4!D450","v":2038.9499999999998},197]
[448,19572.07,{"$f":"Calculator!$S$7*Sheet4!D451","v":2049.2999999999997},198]
[449,19582.420000000002,{"$f":"Calculator!$S$7*Sheet4!D452","v":2059.65},199]
[450,19592.77,{"$f":"Calculator!$S$7*Sheet4!D453","v":2070},200]
[451,19603.12,{"$f":"Calculator!$S$7*Sheet4!D454","v":2080.35},201]
[452,19613.47,{"$f":"Calculator!$S$7*Sheet4!D455","v":2090.6999999999998},202]
[453,19623.82,{"$f":"Calculator!$S$7*Sheet4!D456","v":2101.0499999999997},203]
[454,19634.170000000002,{"$f":"Calculator!$S$7*Sheet4!D457","v":2111.4},204]
[455,19644.52,{"$f":"Calculator!$S$7*Sheet4!D458","v":2121.75},205]
[456,19654.87,{"$f":"Calculator!$S$7*Sheet4!D459","v":2132.1},206]
[457,19665.22,{"$f":"Calculator!$S$7*Sheet4!D460","v":2142.4499999999998},207]
[458,19675.57,{"$f":"Calculator!$S$7*Sheet4!D461","v":2152.7999999999997},208]
[459,19685.920000000002,{"$f":"Calculator!$S$7*Sheet4!D462","v":2163.15},209]
[460,19696.27,{"$f":"Calculator!$S$7*Sheet4!D463","v":2173.5},210]
[461,19706.62,{"$f":"Calculator!$S$7*Sheet4!D464","v":2183.85},211]
[462,19716.97,{"$f":"Calculator!$S$7*Sheet4!D465","v":2194.1999999999998},212]
[463,19727.32,{"$f":"Calculator!$S$7*Sheet4!D466","v":2204.5499999999997},213]
[464,19737.670000000002,{"$f":"Calculator!$S$7*Sheet4!D467","v":2214.9},214]
[465,19748.02,{"$f":"Calculator!$S$7*Sheet4!D468","v":2225.25},215]
[466,19758.37,{"$f":"Calculator!$S$7*Sheet4!D469","v":2235.6},216]
[467,19768.72,{"$f":"Calculator!$S$7*Sheet4!D470","v":2245.9499999999998},217]
[468,19779.07,{"$f":"Calculator!$S$7*Sheet4!D471","v":2256.2999999999997},218]
[469,19789.420000000002,{"$f":"Calculator!$S$7*Sheet4!D472","v":2266.65},219]
[470,19799.77,{"$f":"Calculator!$S$7*Sheet4!D473","v":2277},220]
[471,19810.12,{"$f":"Calculator!$S$7*Sheet4!D474","v":2287.35},221]
[472,19820.47,{"$f":"Calculator!$S$7*Sheet4!D475","v":2297.6999999999998},222]
[473,19830.82,{"$f":"Calculator!$S$7*Sheet4!D476","v":2308.0499999999997},223]
[474,19841.170000000002,{"$f":"Calculator!$S$7*Sheet4!D477","v":2318.4},224]
[475,19851.52,{"$f":"Calculator!$S$7*Sheet4!D478","v":2328.75},225]
[476,19861.87,{"$f":"Calculator!$S$7*Sheet4!D479","v":2339.1},226]
[477,19872.22,{"$f":"Calculator!$S$7*Sheet4!D480","v":2349.4499999999998},227]
[478,19882.57,{"$f":"Calculator!$S$7*Sheet4!D481","v":2359.7999999999997},228]
[479,19892.920000000002,{"$f":"Calculator!$S$7*Sheet4!D482","v":2370.15},229]
[480,19903.27,{"$f":"Calculator!$S$7*Sheet4!D483","v":2380.5},230]
[481,19913.62,{"$f":"Calculator!$S$7*Sheet4!D484","v":2390.85},231]
[482,19923.97,{"$f":"Calculator!$S$7*Sheet4!D485","v":2401.1999999999998},232]
[483,19934.32,{"$f":"Calculator!$S$7*Sheet4!D486","v":2411.5499999999997},233]
[484,19944.670000000002,{"$f":"Calculator!$S$7*Sheet4!D487","v":2421.9},234]
[485,19955.02,{"$f":"Calculator!$S$7*Sheet4!D488","v":2432.25},235]
[486,19965.37,{"$f":"Calculator!$S$7*Sheet4!D489","v":2442.6},236]
[487,19975.72,{"$f":"Calculator!$S$7*Sheet4!D490","v":2452.9499999999998},237]
[488,19986.07,{"$f":"Calculator!$S$7*Sheet4!D491","v":2463.2999999999997},238]
[489,19996.420000000002,{"$f":"Calculator!$S$7*Sheet4!D492","v":2473.65},239]
[490,20006.77,{"$f":"Calculator!$S$7*Sheet4!D493","v":2484},240]
[491,20017.12,{"$f":"Calculator!$S$7*Sheet4!D494","v":2494.35},241]
[492,20027.47,{"$f":"Calculator!$S$7*Sheet4!D495","v":2504.6999999999998},242]
[493,20037.82,{"$f":"Calculator!$S$7*Sheet4!D496","v":2515.0499999999997},243]
[494,20048.170000000002,{"$f":"Calculator!$S$7*Sheet4!D497","v":2525.4},244]
[495,20058.52,{"$f":"Calculator!$S$7*Sheet4!D498","v":2535.75},245]
[496,20068.87,{"$f":"Calculator!$S$7*Sheet4!D499","v":2546.1},246]
[497,20079.22,{"$f":"Calculator!$S$7*Sheet4!D500","v":2556.4499999999998},247]
[498,20089.57,{"$f":"Calculator!$S$7*Sheet4!D501","v":2566.7999999999997},248]
[499,20099.920000000002,{"$f":"Calculator!$S$7*Sheet4!D502","v":2577.15},249]
[500,20110.27,{"$f":"Calculator!$S$7*Sheet4!D503","v":2587.5},250]
[501,20120.62,{"$f":"Calculator!$S$7*Sheet4!D504","v":2597.85},251]
[502,20130.97,{"$f":"Calculator!$S$7*Sheet4!D505","v":2608.1999999999998},252]
[503,20141.32,{"$f":"Calculator!$S$7*Sheet4!D506","v":2618.5499999999997},253]
[504,20151.670000000002,{"$f":"Calculator!$S$7*Sheet4!D507","v":2628.9},254]
[505,20162.02,{"$f":"Calculator!$S$7*Sheet4!D508","v":2639.25},255]
[506,20172.37,{"$f":"Calculator!$S$7*Sheet4!D509","v":2649.6},256]
[507,20182.72,{"$f":"Calculator!$S$7*Sheet4!D510","v":2659.95},257]
[508,20193.07,{"$f":"Calculator!$S$7*Sheet4!D511","v":2670.2999999999997},258]
[509,{"$f":"$B$253+C512","v":20203.420000000002},{"$f":"Calculator!$S$7*Sheet4!D512","v":2680.65},259]
[510,20213.77,{"$f":"Calculator!$S$7*Sheet4!D513","v":2691},260]
[511,20224.12,{"$f":"Calculator!$S$7*Sheet4!D514","v":2701.35},261]
[512,20234.47,{"$f":"Calculator!$S$7*Sheet4!D515","v":2711.7},262]
[513,20244.82,{"$f":"Calculator!$S$7*Sheet4!D516","v":2722.0499999999997},263]
[514,20255.170000000002,{"$f":"Calculator!$S$7*Sheet4!D517","v":2732.4},264]
[515,20265.52,{"$f":"Calculator!$S$7*Sheet4!D518","v":2742.75},265]
[516,20275.87,{"$f":"Calculator!$S$7*Sheet4!D519","v":2753.1},266]
[517,20286.22,{"$f":"Calculator!$S$7*Sheet4!D520","v":2763.45},267]
[518,20296.57,{"$f":"Calculator!$S$7*Sheet4!D521","v":2773.7999999999997},268]
[519,20306.920000000002,{"$f":"Calculator!$S$7*Sheet4!D522","v":2784.15},269]
[520,20317.27,{"$f":"Calculator!$S$7*Sheet4!D523","v":2794.5},270]
[521,20327.62,{"$f":"Calculator!$S$7*Sheet4!D524","v":2804.85},271]
[522,20337.97,{"$f":"Calculator!$S$7*Sheet4!D525","v":2815.2},272]
[523,20348.32,{"$f":"Calculator!$S$7*Sheet4!D526","v":2825.5499999999997},273]
[524,20358.670000000002,{"$f":"Calculator!$S$7*Sheet4!D527","v":2835.9},274]
[525,20369.02,{"$f":"Calculator!$S$7*Sheet4!D528","v":2846.25},275]
[526,20379.37,{"$f":"Calculator!$S$7*Sheet4!D529","v":2856.6},276]
[527,20389.72,{"$f":"Calculator!$S$7*Sheet4!D530","v":2866.95},277]
[528,20400.07,{"$f":"Calculator!$S$7*Sheet4!D531","v":2877.2999999999997},278]
[529,20410.420000000002,{"$f":"Calculator!$S$7*Sheet4!D532","v":2887.65},279]
[530,20420.77,{"$f":"Calculator!$S$7*Sheet4!D533","v":2898},280]
[531,20431.12,{"$f":"Calculator!$S$7*Sheet4!D534","v":2908.35},281]
[532,20441.47,{"$f":"Calculator!$S$7*Sheet4!D535","v":2918.7},282]
[533,20451.82,{"$f":"Calculator!$S$7*Sheet4!D536","v":2929.0499999999997},283]
[534,20462.170000000002,{"$f":"Calculator!$S$7*Sheet4!D537","v":2939.4},284]
[535,20472.52,{"$f":"Calculator!$S$7*Sheet4!D538","v":2949.75},285]
[536,20482.87,{"$f":"Calculator!$S$7*Sheet4!D539","v":2960.1},286]
[537,20493.22,{"$f":"Calculator!$S$7*Sheet4!D540","v":2970.45},287]
[538,20503.57,{"$f":"Calculator!$S$7*Sheet4!D541","v":2980.7999999999997},288]
[539,20513.920000000002,{"$f":"Calculator!$S$7*Sheet4!D542","v":2991.15},289]
[540,20524.27,{"$f":"Calculator!$S$7*Sheet4!D543","v":3001.5},290]
[541,20534.62,{"$f":"Calculator!$S$7*Sheet4!D544","v":3011.85},291]
[542,20544.97,{"$f":"Calculator!$S$7*Sheet4!D545","v":3022.2},292]
[543,20555.32,{"$f":"Calculator!$S$7*Sheet4!D546","v":3032.5499999999997},293]
[544,20565.670000000002,{"$f":"Calculator!$S$7*Sheet4!D547","v":3042.9},294]
[545,20576.02,{"$f":"Calculator!$S$7*Sheet4!D548","v":3053.25},295]
[546,20586.37,{"$f":"Calculator!$S$7*Sheet4!D549","v":3063.6},296]
[547,20596.72,{"$f":"Calculator!$S$7*Sheet4!D550","v":3073.95},297]
[548,20607.07,{"$f":"Calculator!$S$7*Sheet4!D551","v":3084.2999999999997},298]
[549,20617.420000000002,{"$f":"Calculator!$S$7*Sheet4!D552","v":3094.65},299]
[550,20627.77,{"$f":"Calculator!$S$7*Sheet4!D553","v":3105},300]
[551,20638.12,{"$f":"Calculator!$S$7*Sheet4!D554","v":3115.35},301]
[552,20648.47,{"$f":"Calculator!$S$7*Sheet4!D555","v":3125.7},302]
[553,20658.82,{"$f":"Calculator!$S$7*Sheet4!D556","v":3136.0499999999997},303]
[554,20669.170000000002,{"$f":"Calculator!$S$7*Sheet4!D557","v":3146.4},304]
[555,20679.52,{"$f":"Calculator!$S$7*Sheet4!D558","v":3156.75},305]
[556,20689.87,{"$f":"Calculator!$S$7*Sheet4!D559","v":3167.1},306]
[557,20700.22,{"$f":"Calculator!$S$7*Sheet4!D560","v":3177.45},307]
[558,20710.57,{"$f":"Calculator!$S$7*Sheet4!D561","v":3187.7999999999997},308]
[559,20720.920000000002,{"$f":"Calculator!$S$7*Sheet4!D562","v":3198.15},309]
[560,20731.27,{"$f":"Calculator!$S$7*Sheet4!D563","v":3208.5},310]
[561,20741.62,{"$f":"Calculator!$S$7*Sheet4!D564","v":3218.85},311]
[562,20751.97,{"$f":"Calculator!$S$7*Sheet4!D565","v":3229.2},312]
[563,20762.32,{"$f":"Calculator!$S$7*Sheet4!D566","v":3239.5499999999997},313]
[564,20772.670000000002,{"$f":"Calculator!$S$7*Sheet4!D567","v":3249.9},314]
[565,20783.02,{"$f":"Calculator!$S$7*Sheet4!D568","v":3260.25},315]
[566,20793.37,{"$f":"Calculator!$S$7*Sheet4!D569","v":3270.6},316]
[567,20803.72,{"$f":"Calculator!$S$7*Sheet4!D570","v":3280.95},317]
[568,20814.07,{"$f":"Calculator!$S$7*Sheet4!D571","v":3291.2999999999997},318]
[569,20824.420000000002,{"$f":"Calculator!$S$7*Sheet4!D572","v":3301.65},319]
[570,20834.77,{"$f":"Calculator!$S$7*Sheet4!D573","v":3312},320]
[571,20845.12,{"$f":"Calculator!$S$7*Sheet4!D574","v":3322.35},321]
[572,20855.47,{"$f":"Calculator!$S$7*Sheet4!D575","v":3332.7},322]
[573,{"$f":"$B$253+C576","v":20865.82},{"$f":"Calculator!$S$7*Sheet4!D576","v":3343.0499999999997},323]
[574,20876.170000000002,{"$f":"Calculator!$S$7*Sheet4!D577","v":3353.4},324]
[575,20886.52,{"$f":"Calculator!$S$7*Sheet4!D578","v":3363.75},325]
[576,20896.87,{"$f":"Calculator!$S$7*Sheet4!D579","v":3374.1},326]
[577,20907.22,{"$f":"Calculator!$S$7*Sheet4!D580","v":3384.45},327]
[578,20917.57,{"$f":"Calculator!$S$7*Sheet4!D581","v":3394.7999999999997},328]
[579,20927.920000000002,{"$f":"Calculator!$S$7*Sheet4!D582","v":3405.15},329]
[580,20938.27,{"$f":"Calculator!$S$7*Sheet4!D583","v":3415.5},330]
[581,20948.62,{"$f":"Calculator!$S$7*Sheet4!D584","v":3425.85},331]
[582,20958.97,{"$f":"Calculator!$S$7*Sheet4!D585","v":3436.2},332]
[583,20969.32,{"$f":"Calculator!$S$7*Sheet4!D586","v":3446.5499999999997},333]
[584,20979.670000000002,{"$f":"Calculator!$S$7*Sheet4!D587","v":3456.9},334]
[585,20990.02,{"$f":"Calculator!$S$7*Sheet4!D588","v":3467.25},335]
[586,21000.37,{"$f":"Calculator!$S$7*Sheet4!D589","v":3477.6},336]
[587,21010.720000000001,{"$f":"Calculator!$S$7*Sheet4!D590","v":3487.95},337]
[588,21021.07,{"$f":"Calculator!$S$7*Sheet4!D591","v":3498.2999999999997},338]
[589,21031.420000000002,{"$f":"Calculator!$S$7*Sheet4!D592","v":3508.65},339]
[590,21041.77,{"$f":"Calculator!$S$7*Sheet4!D593","v":3519},340]
[591,21052.12,{"$f":"Calculator!$S$7*Sheet4!D594","v":3529.35},341]
[592,21062.47,{"$f":"Calculator!$S$7*Sheet4!D595","v":3539.7},342]
[593,21072.82,{"$f":"Calculator!$S$7*Sheet4!D596","v":3550.0499999999997},343]
[594,21083.170000000002,{"$f":"Calculator!$S$7*Sheet4!D597","v":3560.4},344]
[595,21093.52,{"$f":"Calculator!$S$7*Sheet4!D598","v":3570.75},345]
[596,21103.87,{"$f":"Calculator!$S$7*Sheet4!D599","v":3581.1},346]
[597,21114.22,{"$f":"Calculator!$S$7*Sheet4!D600","v":3591.45},347]
[598,21124.57,{"$f":"Calculator!$S$7*Sheet4!D601","v":3601.7999999999997},348]
[599,21134.920000000002,{"$f":"Calculator!$S$7*Sheet4!D602","v":3612.15},349]
[600,21145.27,{"$f":"Calculator!$S$7*Sheet4!D603","v":3622.5},350]
[601,21155.62,{"$f":"Calculator!$S$7*Sheet4!D604","v":3632.85},351]
[602,21165.97,{"$f":"Calculator!$S$7*Sheet4!D605","v":3643.2},352]
[603,21176.32,{"$f":"Calculator!$S$7*Sheet4!D606","v":3653.5499999999997},353]
[604,21186.670000000002,{"$f":"Calculator!$S$7*Sheet4!D607","v":3663.9},354]
[605,21197.02,{"$f":"Calculator!$S$7*Sheet4!D608","v":3674.25},355]
[606,21207.37,{"$f":"Calculator!$S$7*Sheet4!D609","v":3684.6},356]
[607,21217.72,{"$f":"Calculator!$S$7*Sheet4!D610","v":3694.95},357]
[608,21228.07,{"$f":"Calculator!$S$7*Sheet4!D611","v":3705.2999999999997},358]
[609,21238.420000000002,{"$f":"Calculator!$S$7*Sheet4!D612","v":3715.65},359]
[610,21248.77,{"$f":"Calculator!$S$7*Sheet4!D613","v":3726},360]
[611,21259.119999999999,{"$f":"Calculator!$S$7*Sheet4!D614","v":3736.35},361]
[612,21269.47,{"$f":"Calculator!$S$7*Sheet4!D615","v":3746.7},362]
[613,21279.82,{"$f":"Calculator!$S$7*Sheet4!D616","v":3757.0499999999997},363]
[614,21290.170000000002,{"$f":"Calculator!$S$7*Sheet4!D617","v":3767.4},364]
[615,21300.52,{"$f":"Calculator!$S$7*Sheet4!D618","v":3777.75},365]
[616,21310.87,{"$f":"Calculator!$S$7*Sheet4!D619","v":3788.1},366]
[617,21321.22,{"$f":"Calculator!$S$7*Sheet4!D620","v":3798.45},367]
[618,21331.57,{"$f":"Calculator!$S$7*Sheet4!D621","v":3808.7999999999997},368]
[619,21341.920000000002,{"$f":"Calculator!$S$7*Sheet4!D622","v":3819.15},369]
[620,21352.27,{"$f":"Calculator!$S$7*Sheet4!D623","v":3829.5},370]
[621,21362.62,{"$f":"Calculator!$S$7*Sheet4!D624","v":3839.85},371]
[622,21372.97,{"$f":"Calculator!$S$7*Sheet4!D625","v":3850.2},372]
[623,21383.32,{"$f":"Calculator!$S$7*Sheet4!D626","v":3860.5499999999997},373]
[624,21393.670000000002,{"$f":"Calculator!$S$7*Sheet4!D627","v":3870.9},374]
[625,21404.02,{"$f":"Calculator!$S$7*Sheet4!D628","v":3881.25},375]
[626,21414.37,{"$f":"Calculator!$S$7*Sheet4!D629","v":3891.6},376]
[627,21424.720000000001,{"$f":"Calculator!$S$7*Sheet4!D630","v":3901.95},377]
[628,21435.07,{"$f":"Calculator!$S$7*Sheet4!D631","v":3912.2999999999997},378]
[629,21445.420000000002,{"$f":"Calculator!$S$7*Sheet4!D632","v":3922.65},379]
[630,21455.77,{"$f":"Calculator!$S$7*Sheet4!D633","v":3933},380]
[631,21466.12,{"$f":"Calculator!$S$7*Sheet4!D634","v":3943.35},381]
[632,21476.47,{"$f":"Calculator!$S$7*Sheet4!D635","v":3953.7},382]
[633,21486.82,{"$f":"Calculator!$S$7*Sheet4!D636","v":3964.0499999999997},383]
[634,21497.17,{"$f":"Calculator!$S$7*Sheet4!D637","v":3974.3999999999996},384]
[635,21507.52,{"$f":"Calculator!$S$7*Sheet4!D638","v":3984.75},385]
[636,21517.87,{"$f":"Calculator!$S$7*Sheet4!D639","v":3995.1},386]
[637,{"$f":"$B$253+C640","v":21528.22},{"$f":"Calculator!$S$7*Sheet4!D640","v":4005.45},387]
[638,21538.57,{"$f":"Calculator!$S$7*Sheet4!D641","v":4015.7999999999997},388]
[639,21548.92,{"$f":"Calculator!$S$7*Sheet4!D642","v":4026.1499999999996},389]
[640,21559.27,{"$f":"Calculator!$S$7*Sheet4!D643","v":4036.5},390]
[641,21569.62,{"$f":"Calculator!$S$7*Sheet4!D644","v":4046.85},391]
[642,21579.97,{"$f":"Calculator!$S$7*Sheet4!D645","v":4057.2},392]
[643,21590.32,{"$f":"Calculator!$S$7*Sheet4!D646","v":4067.5499999999997},393]
[644,21600.67,{"$f":"Calculator!$S$7*Sheet4!D647","v":4077.8999999999996},394]
[645,21611.02,{"$f":"Calculator!$S$7*Sheet4!D648","v":4088.25},395]
[646,21621.37,{"$f":"Calculator!$S$7*Sheet4!D649","v":4098.5999999999995},396]
[647,21631.72,{"$f":"Calculator!$S$7*Sheet4!D650","v":4108.95},397]
[648,21642.07,{"$f":"Calculator!$S$7*Sheet4!D651","v":4119.3},398]
[649,21652.42,{"$f":"Calculator!$S$7*Sheet4!D652","v":4129.6499999999996},399]
[650,21662.77,{"$f":"Calculator!$S$7*Sheet4!D653","v":4140},400]
[651,21673.119999999999,{"$f":"Calculator!$S$7*Sheet4!D654","v":4150.3499999999995},401]
[652,21683.47,{"$f":"Calculator!$S$7*Sheet4!D655","v":4160.7},402]
[653,21693.82,{"$f":"Calculator!$S$7*Sheet4!D656","v":4171.05},403]
[654,21704.17,{"$f":"Calculator!$S$7*Sheet4!D657","v":4181.3999999999996},404]
[655,21714.52,{"$f":"Calculator!$S$7*Sheet4!D658","v":4191.75},405]
[656,21724.87,{"$f":"Calculator!$S$7*Sheet4!D659","v":4202.0999999999995},406]
[657,21735.22,{"$f":"Calculator!$S$7*Sheet4!D660","v":4212.45},407]
[658,21745.57,{"$f":"Calculator!$S$7*Sheet4!D661","v":4222.8},408]
[659,21755.919999999998,{"$f":"Calculator!$S$7*Sheet4!D662","v":4233.1499999999996},409]
[660,21766.27,{"$f":"Calculator!$S$7*Sheet4!D663","v":4243.5},410]
[661,21776.62,{"$f":"Calculator!$S$7*Sheet4!D664","v":4253.8499999999995},411]
[662,21786.97,{"$f":"Calculator!$S$7*Sheet4!D665","v":4264.2},412]
[663,21797.32,{"$f":"Calculator!$S$7*Sheet4!D666","v":4274.55},413]
[664,21807.67,{"$f":"Calculator!$S$7*Sheet4!D667","v":4284.8999999999996},414]
[665,21818.02,{"$f":"Calculator!$S$7*Sheet4!D668","v":4295.25},415]
[666,21828.37,{"$f":"Calculator!$S$7*Sheet4!D669","v":4305.5999999999995},416]
[667,21838.720000000001,{"$f":"Calculator!$S$7*Sheet4!D670","v":4315.95},417]
[668,21849.07,{"$f":"Calculator!$S$7*Sheet4!D671","v":4326.3},418]
[669,21859.42,{"$f":"Calculator!$S$7*Sheet4!D672","v":4336.6499999999996},419]
[670,21869.77,{"$f":"Calculator!$S$7*Sheet4!D673","v":4347},420]
[671,21880.12,{"$f":"Calculator!$S$7*Sheet4!D674","v":4357.3499999999995},421]
[672,21890.47,{"$f":"Calculator!$S$7*Sheet4!D675","v":4367.7},422]
[673,21900.82,{"$f":"Calculator!$S$7*Sheet4!D676","v":4378.05},423]
[674,21911.17,{"$f":"Calculator!$S$7*Sheet4!D677","v":4388.3999999999996},424]
[675,21921.52,{"$f":"Calculator!$S$7*Sheet4!D678","v":4398.75},425]
[676,21931.87,{"$f":"Calculator!$S$7*Sheet4!D679","v":4409.0999999999995},426]
[677,21942.22,{"$f":"Calculator!$S$7*Sheet4!D680","v":4419.45},427]
[678,21952.57,{"$f":"Calculator!$S$7*Sheet4!D681","v":4429.8},428]
[679,21962.92,{"$f":"Calculator!$S$7*Sheet4!D682","v":4440.1499999999996},429]
[680,21973.27,{"$f":"Calculator!$S$7*Sheet4!D683","v":4450.5},430]
[681,21983.62,{"$f":"Calculator!$S$7*Sheet4!D684","v":4460.8499999999995},431]
[682,21993.97,{"$f":"Calculator!$S$7*Sheet4!D685","v":4471.2},432]
[683,22004.32,{"$f":"Calculator!$S$7*Sheet4!D686","v":4481.55},433]
[684,22014.67,{"$f":"Calculator!$S$7*Sheet4!D687","v":4491.8999999999996},434]
[685,22025.02,{"$f":"Calculator!$S$7*Sheet4!D688","v":4502.25},435]
[686,22035.37,{"$f":"Calculator!$S$7*Sheet4!D689","v":4512.5999999999995},436]
[687,22045.72,{"$f":"Calculator!$S$7*Sheet4!D690","v":4522.95},437]
[688,22056.07,{"$f":"Calculator!$S$7*Sheet4!D691","v":4533.3},438]
[689,22066.42,{"$f":"Calculator!$S$7*Sheet4!D692","v":4543.6499999999996},439]
[690,22076.77,{"$f":"Calculator!$S$7*Sheet4!D693","v":4554},440]
[691,22087.119999999999,{"$f":"Calculator!$S$7*Sheet4!D694","v":4564.3499999999995},441]
[692,22097.47,{"$f":"Calculator!$S$7*Sheet4!D695","v":4574.7},442]
[693,22107.82,{"$f":"Calculator!$S$7*Sheet4!D696","v":4585.05},443]
[694,22118.17,{"$f":"Calculator!$S$7*Sheet4!D697","v":4595.3999999999996},444]
[695,22128.52,{"$f":"Calculator!$S$7*Sheet4!D698","v":4605.75},445]
[696,22138.87,{"$f":"Calculator!$S$7*Sheet4!D699","v":4616.0999999999995},446]
[697,22149.22,{"$f":"Calculator!$S$7*Sheet4!D700","v":4626.45},447]
[698,22159.57,{"$f":"Calculator!$S$7*Sheet4!D701","v":4636.8},448]
[699,22169.919999999998,{"$f":"Calculator!$S$7*Sheet4!D702","v":4647.1499999999996},449]
[700,22180.27,{"$f":"Calculator!$S$7*Sheet4!D703","v":4657.5},450]
[701,{"$f":"$B$253+C704","v":22190.62},{"$f":"Calculator!$S$7*Sheet4!D704","v":4667.8499999999995},451]
[702,22200.97,{"$f":"Calculator!$S$7*Sheet4!D705","v":4678.2},452]
[703,22211.32,{"$f":"Calculator!$S$7*Sheet4!D706","v":4688.55},453]
[704,22221.67,{"$f":"Calculator!$S$7*Sheet4!D707","v":4698.8999999999996},454]
[705,22232.02,{"$f":"Calculator!$S$7*Sheet4!D708","v":4709.25},455]
[706,22242.37,{"$f":"Calculator!$S$7*Sheet4!D709","v":4719.5999999999995},456]
[707,22252.720000000001,{"$f":"Calculator!$S$7*Sheet4!D710","v":4729.95},457]
[708,22263.07,{"$f":"Calculator!$S$7*Sheet4!D711","v":4740.3},458]
[709,22273.42,{"$f":"Calculator!$S$7*Sheet4!D712","v":4750.6499999999996},459]
[710,22283.77,{"$f":"Calculator!$S$7*Sheet4!D713","v":4761},460]
[711,22294.12,{"$f":"Calculator!$S$7*Sheet4!D714","v":4771.3499999999995},461]
[712,22304.47,{"$f":"Calculator!$S$7*Sheet4!D715","v":4781.7},462]
[713,22314.82,{"$f":"Calculator!$S$7*Sheet4!D716","v":4792.05},463]
[714,22325.17,{"$f":"Calculator!$S$7*Sheet4!D717","v":4802.3999999999996},464]
[715,22335.52,{"$f":"Calculator!$S$7*Sheet4!D718","v":4812.75},465]
[716,22345.87,{"$f":"Calculator!$S$7*Sheet4!D719","v":4823.0999999999995},466]
[717,22356.22,{"$f":"Calculator!$S$7*Sheet4!D720","v":4833.45},467]
[718,22366.57,{"$f":"Calculator!$S$7*Sheet4!D721","v":4843.8},468]
[719,22376.92,{"$f":"Calculator!$S$7*Sheet4!D722","v":4854.1499999999996},469]
[720,22387.27,{"$f":"Calculator!$S$7*Sheet4!D723","v":4864.5},470]
[721,22397.62,{"$f":"Calculator!$S$7*Sheet4!D724","v":4874.8499999999995},471]
[722,22407.97,{"$f":"Calculator!$S$7*Sheet4!D725","v":4885.2},472]
[723,22418.32,{"$f":"Calculator!$S$7*Sheet4!D726","v":4895.55},473]
[724,22428.67,{"$f":"Calculator!$S$7*Sheet4!D727","v":4905.8999999999996},474]
[725,22439.02,{"$f":"Calculator!$S$7*Sheet4!D728","v":4916.25},475]
[726,22449.37,{"$f":"Calculator!$S$7*Sheet4!D729","v":4926.5999999999995},476]
[727,22459.72,{"$f":"Calculator!$S$7*Sheet4!D730","v":4936.95},477]
[728,22470.07,{"$f":"Calculator!$S$7*Sheet4!D731","v":4947.3},478]
[729,22480.42,{"$f":"Calculator!$S$7*Sheet4!D732","v":4957.6499999999996},479]
[730,22490.77,{"$f":"Calculator!$S$7*Sheet4!D733","v":4968},480]
[731,22501.119999999999,{"$f":"Calculator!$S$7*Sheet4!D734","v":4978.3499999999995},481]
[732,22511.47,{"$f":"Calculator!$S$7*Sheet4!D735","v":4988.7},482]
[733,22521.82,{"$f":"Calculator!$S$7*Sheet4!D736","v":4999.05},483]
[734,22532.17,{"$f":"Calculator!$S$7*Sheet4!D737","v":5009.3999999999996},484]
[735,22542.52,{"$f":"Calculator!$S$7*Sheet4!D738","v":5019.75},485]
[736,22552.87,{"$f":"Calculator!$S$7*Sheet4!D739","v":5030.0999999999995},486]
[737,22563.22,{"$f":"Calculator!$S$7*Sheet4!D740","v":5040.45},487]
[738,22573.57,{"$f":"Calculator!$S$7*Sheet4!D741","v":5050.8},488]
[739,22583.919999999998,{"$f":"Calculator!$S$7*Sheet4!D742","v":5061.1499999999996},489]
[740,22594.27,{"$f":"Calculator!$S$7*Sheet4!D743","v":5071.5},490]
[741,22604.62,{"$f":"Calculator!$S$7*Sheet4!D744","v":5081.8499999999995},491]
[742,22614.97,{"$f":"Calculator!$S$7*Sheet4!D745","v":5092.2},492]
[743,22625.32,{"$f":"Calculator!$S$7*Sheet4!D746","v":5102.55},493]
[744,22635.67,{"$f":"Calculator!$S$7*Sheet4!D747","v":5112.8999999999996},494]
[745,22646.02,{"$f":"Calculator!$S$7*Sheet4!D748","v":5123.25},495]
[746,22656.37,{"$f":"Calculator!$S$7*Sheet4!D749","v":5133.5999999999995},496]
[747,22666.720000000001,{"$f":"Calculator!$S$7*Sheet4!D750","v":5143.95},497]
[748,22677.07,{"$f":"Calculator!$S$7*Sheet4!D751","v":5154.3},498]
[749,22687.42,{"$f":"Calculator!$S$7*Sheet4!D752","v":5164.6499999999996},499]
[750,22697.77,{"$f":"Calculator!$S$7*Sheet4!D753","v":5175},500]
[751,22708.12,{"$f":"Calculator!$S$7*Sheet4!D754","v":5185.3499999999995},501]
[752,22718.47,{"$f":"Calculator!$S$7*Sheet4!D755","v":5195.7},502]
[753,22728.82,{"$f":"Calculator!$S$7*Sheet4!D756","v":5206.05},503]
[754,22739.17,{"$f":"Calculator!$S$7*Sheet4!D757","v":5216.3999999999996},504]
[755,22749.52,{"$f":"Calculator!$S$7*Sheet4!D758","v":5226.75},505]
[756,22759.87,{"$f":"Calculator!$S$7*Sheet4!D759","v":5237.0999999999995},506]
[757,22770.22,{"$f":"Calculator!$S$7*Sheet4!D760","v":5247.45},507]
[758,22780.57,{"$f":"Calculator!$S$7*Sheet4!D761","v":5257.8},508]
[759,22790.92,{"$f":"Calculator!$S$7*Sheet4!D762","v":5268.15},509]
[760,22801.27,{"$f":"Calculator!$S$7*Sheet4!D763","v":5278.5},510]
[761,22811.62,{"$f":"Calculator!$S$7*Sheet4!D764","v":5288.8499999999995},511]
[762,22821.97,{"$f":"Calculator!$S$7*Sheet4!D765","v":5299.2},512]
[763,22832.32,{"$f":"Calculator!$S$7*Sheet4!D766","v":5309.55},513]
[764,22842.67,{"$f":"Calculator!$S$7*Sheet4!D767","v":5319.9},514]
[765,{"$f":"$B$253+C768","v":22853.02},{"$f":"Calculator!$S$7*Sheet4!D768","v":5330.25},515]
[766,22863.37,{"$f":"Calculator!$S$7*Sheet4!D769","v":5340.5999999999995},516]
[767,22873.72,{"$f":"Calculator!$S$7*Sheet4!D770","v":5350.95},517]
[768,22884.07,{"$f":"Calculator!$S$7*Sheet4!D771","v":5361.3},518]
[769,22894.42,{"$f":"Calculator!$S$7*Sheet4!D772","v":5371.65},519]
[770,22904.77,{"$f":"Calculator!$S$7*Sheet4!D773","v":5382},520]
[771,22915.119999999999,{"$f":"Calculator!$S$7*Sheet4!D774","v":5392.3499999999995},521]
[772,22925.47,{"$f":"Calculator!$S$7*Sheet4!D775","v":5402.7},522]
[773,22935.82,{"$f":"Calculator!$S$7*Sheet4!D776","v":5413.05},523]
[774,22946.17,{"$f":"Calculator!$S$7*Sheet4!D777","v":5423.4},524]
[775,22956.52,{"$f":"Calculator!$S$7*Sheet4!D778","v":5433.75},525]
[776,22966.87,{"$f":"Calculator!$S$7*Sheet4!D779","v":5444.0999999999995},526]
[777,22977.22,{"$f":"Calculator!$S$7*Sheet4!D780","v":5454.45},527]
[778,22987.57,{"$f":"Calculator!$S$7*Sheet4!D781","v":5464.8},528]
[779,22997.919999999998,{"$f":"Calculator!$S$7*Sheet4!D782","v":5475.15},529]
[780,23008.27,{"$f":"Calculator!$S$7*Sheet4!D783","v":5485.5},530]
[781,23018.62,{"$f":"Calculator!$S$7*Sheet4!D784","v":5495.8499999999995},531]
[782,23028.97,{"$f":"Calculator!$S$7*Sheet4!D785","v":5506.2},532]
[783,23039.32,{"$f":"Calculator!$S$7*Sheet4!D786","v":5516.55},533]
[784,23049.67,{"$f":"Calculator!$S$7*Sheet4!D787","v":5526.9},534]
[785,23060.02,{"$f":"Calculator!$S$7*Sheet4!D788","v":5537.25},535]
[786,23070.37,{"$f":"Calculator!$S$7*Sheet4!D789","v":5547.5999999999995},536]
[787,23080.720000000001,{"$f":"Calculator!$S$7*Sheet4!D790","v":5557.95},537]
[788,23091.07,{"$f":"Calculator!$S$7*Sheet4!D791","v":5568.3},538]
[789,23101.42,{"$f":"Calculator!$S$7*Sheet4!D792","v":5578.65},539]
[790,23111.77,{"$f":"Calculator!$S$7*Sheet4!D793","v":5589},540]
[791,23122.12,{"$f":"Calculator!$S$7*Sheet4!D794","v":5599.3499999999995},541]
[792,23132.47,{"$f":"Calculator!$S$7*Sheet4!D795","v":5609.7},542]
[793,23142.82,{"$f":"Calculator!$S$7*Sheet4!D796","v":5620.05},543]
[794,23153.17,{"$f":"Calculator!$S$7*Sheet4!D797","v":5630.4},544]
[795,23163.52,{"$f":"Calculator!$S$7*Sheet4!D798","v":5640.75},545]
[796,23173.87,{"$f":"Calculator!$S$7*Sheet4!D799","v":5651.0999999999995},546]
[797,23184.22,{"$f":"Calculator!$S$7*Sheet4!D800","v":5661.45},547]
[798,23194.57,{"$f":"Calculator!$S$7*Sheet4!D801","v":5671.8},548]
[799,23204.92,{"$f":"Calculator!$S$7*Sheet4!D802","v":5682.15},549]
[800,23215.27,{"$f":"Calculator!$S$7*Sheet4!D803","v":5692.5},550]
[801,23225.62,{"$f":"Calculator!$S$7*Sheet4!D804","v":5702.8499999999995},551]
[802,23235.97,{"$f":"Calculator!$S$7*Sheet4!D805","v":5713.2},552]
[803,23246.32,{"$f":"Calculator!$S$7*Sheet4!D806","v":5723.55},553]
[804,23256.67,{"$f":"Calculator!$S$7*Sheet4!D807","v":5733.9},554]
[805,23267.02,{"$f":"Calculator!$S$7*Sheet4!D808","v":5744.25},555]
[806,23277.37,{"$f":"Calculator!$S$7*Sheet4!D809","v":5754.5999999999995},556]
[807,23287.72,{"$f":"Calculator!$S$7*Sheet4!D810","v":5764.95},557]
[808,23298.07,{"$f":"Calculator!$S$7*Sheet4!D811","v":5775.3},558]
[809,23308.42,{"$f":"Calculator!$S$7*Sheet4!D812","v":5785.65},559]
[810,23318.77,{"$f":"Calculator!$S$7*Sheet4!D813","v":5796},560]
[811,23329.119999999999,{"$f":"Calculator!$S$7*Sheet4!D814","v":5806.3499999999995},561]
[812,23339.47,{"$f":"Calculator!$S$7*Sheet4!D815","v":5816.7},562]
[813,23349.82,{"$f":"Calculator!$S$7*Sheet4!D816","v":5827.05},563]
[814,23360.17,{"$f":"Calculator!$S$7*Sheet4!D817","v":5837.4},564]
[815,23370.52,{"$f":"Calculator!$S$7*Sheet4!D818","v":5847.75},565]
[816,23380.87,{"$f":"Calculator!$S$7*Sheet4!D819","v":5858.0999999999995},566]
[817,23391.22,{"$f":"Calculator!$S$7*Sheet4!D820","v":5868.45},567]
[818,23401.57,{"$f":"Calculator!$S$7*Sheet4!D821","v":5878.8},568]
[819,23411.919999999998,{"$f":"Calculator!$S$7*Sheet4!D822","v":5889.15},569]
[820,23422.27,{"$f":"Calculator!$S$7*Sheet4!D823","v":5899.5},570]
[821,23432.62,{"$f":"Calculator!$S$7*Sheet4!D824","v":5909.8499999999995},571]
[822,23442.97,{"$f":"Calculator!$S$7*Sheet4!D825","v":5920.2},572]
[823,23453.32,{"$f":"Calculator!$S$7*Sheet4!D826","v":5930.55},573]
[824,23463.67,{"$f":"Calculator!$S$7*Sheet4!D827","v":5940.9},574]
[825,23474.02,{"$f":"Calculator!$S$7*Sheet4!D828","v":5951.25},575]
[826,23484.37,{"$f":"Calculator!$S$7*Sheet4!D829","v":5961.5999999999995},576]
[827,23494.720000000001,{"$f":"Calculator!$S$7*Sheet4!D830","v":5971.95},577]
[828,23505.07,{"$f":"Calculator!$S$7*Sheet4!D831","v":5982.3},578]
[829,{"$f":"$B$253+C832","v":23515.42},{"$f":"Calculator!$S$7*Sheet4!D832","v":5992.65},579]
[830,23525.77,{"$f":"Calculator!$S$7*Sheet4!D833","v":6003},580]
[831,23536.12,{"$f":"Calculator!$S$7*Sheet4!D834","v":6013.3499999999995},581]
[832,23546.47,{"$f":"Calculator!$S$7*Sheet4!D835","v":6023.7},582]
[833,23556.82,{"$f":"Calculator!$S$7*Sheet4!D836","v":6034.05},583]
[834,23567.17,{"$f":"Calculator!$S$7*Sheet4!D837","v":6044.4},584]
[835,23577.52,{"$f":"Calculator!$S$7*Sheet4!D838","v":6054.75},585]
[836,23587.87,{"$f":"Calculator!$S$7*Sheet4!D839","v":6065.0999999999995},586]
[837,23598.22,{"$f":"Calculator!$S$7*Sheet4!D840","v":6075.45},587]
[838,23608.57,{"$f":"Calculator!$S$7*Sheet4!D841","v":6085.8},588]
[839,23618.92,{"$f":"Calculator!$S$7*Sheet4!D842","v":6096.15},589]
[840,23629.27,{"$f":"Calculator!$S$7*Sheet4!D843","v":6106.5},590]
[841,23639.62,{"$f":"Calculator!$S$7*Sheet4!D844","v":6116.8499999999995},591]
[842,23649.97,{"$f":"Calculator!$S$7*Sheet4!D845","v":6127.2},592]
[843,23660.32,{"$f":"Calculator!$S$7*Sheet4!D846","v":6137.55},593]
[844,23670.67,{"$f":"Calculator!$S$7*Sheet4!D847","v":6147.9},594]
[845,23681.02,{"$f":"Calculator!$S$7*Sheet4!D848","v":6158.25},595]
[846,23691.37,{"$f":"Calculator!$S$7*Sheet4!D849","v":6168.5999999999995},596]
[847,23701.72,{"$f":"Calculator!$S$7*Sheet4!D850","v":6178.95},597]
[848,23712.07,{"$f":"Calculator!$S$7*Sheet4!D851","v":6189.3},598]
[849,23722.42,{"$f":"Calculator!$S$7*Sheet4!D852","v":6199.65},599]
[850,23732.77,{"$f":"Calculator!$S$7*Sheet4!D853","v":6210},600]
[851,23743.119999999999,{"$f":"Calculator!$S$7*Sheet4!D854","v":6220.3499999999995},601]
[852,23753.47,{"$f":"Calculator!$S$7*Sheet4!D855","v":6230.7},602]
[853,23763.82,{"$f":"Calculator!$S$7*Sheet4!D856","v":6241.05},603]
[854,23774.17,{"$f":"Calculator!$S$7*Sheet4!D857","v":6251.4},604]
[855,23784.52,{"$f":"Calculator!$S$7*Sheet4!D858","v":6261.75},605]
[856,23794.87,{"$f":"Calculator!$S$7*Sheet4!D859","v":6272.0999999999995},606]
[857,23805.22,{"$f":"Calculator!$S$7*Sheet4!D860","v":6282.45},607]
[858,23815.57,{"$f":"Calculator!$S$7*Sheet4!D861","v":6292.8},608]
[859,23825.919999999998,{"$f":"Calculator!$S$7*Sheet4!D862","v":6303.15},609]
[860,23836.27,{"$f":"Calculator!$S$7*Sheet4!D863","v":6313.5},610]
[861,23846.62,{"$f":"Calculator!$S$7*Sheet4!D864","v":6323.8499999999995},611]
[862,23856.97,{"$f":"Calculator!$S$7*Sheet4!D865","v":6334.2},612]
[863,23867.32,{"$f":"Calculator!$S$7*Sheet4!D866","v":6344.55},613]
[864,23877.67,{"$f":"Calculator!$S$7*Sheet4!D867","v":6354.9},614]
[865,23888.02,{"$f":"Calculator!$S$7*Sheet4!D868","v":6365.25},615]
[866,23898.37,{"$f":"Calculator!$S$7*Sheet4!D869","v":6375.5999999999995},616]
[867,23908.720000000001,{"$f":"Calculator!$S$7*Sheet4!D870","v":6385.95},617]
[868,23919.07,{"$f":"Calculator!$S$7*Sheet4!D871","v":6396.3},618]
[869,23929.42,{"$f":"Calculator!$S$7*Sheet4!D872","v":6406.65},619]
[870,23939.77,{"$f":"Calculator!$S$7*Sheet4!D873","v":6417},620]
[871,23950.12,{"$f":"Calculator!$S$7*Sheet4!D874","v":6427.3499999999995},621]
[872,23960.47,{"$f":"Calculator!$S$7*Sheet4!D875","v":6437.7},622]
[873,23970.82,{"$f":"Calculator!$S$7*Sheet4!D876","v":6448.05},623]
[874,23981.17,{"$f":"Calculator!$S$7*Sheet4!D877","v":6458.4},624]
[875,23991.52,{"$f":"Calculator!$S$7*Sheet4!D878","v":6468.75},625]
[876,24001.87,{"$f":"Calculator!$S$7*Sheet4!D879","v":6479.0999999999995},626]
[877,24012.22,{"$f":"Calculator!$S$7*Sheet4!D880","v":6489.45},627]
[878,24022.57,{"$f":"Calculator!$S$7*Sheet4!D881","v":6499.8},628]
[879,24032.92,{"$f":"Calculator!$S$7*Sheet4!D882","v":6510.15},629]
[880,24043.27,{"$f":"Calculator!$S$7*Sheet4!D883","v":6520.5},630]
[881,24053.62,{"$f":"Calculator!$S$7*Sheet4!D884","v":6530.8499999999995},631]
[882,24063.97,{"$f":"Calculator!$S$7*Sheet4!D885","v":6541.2},632]
[883,24074.32,{"$f":"Calculator!$S$7*Sheet4!D886","v":6551.55},633]
[884,24084.67,{"$f":"Calculator!$S$7*Sheet4!D887","v":6561.9},634]
[885,24095.02,{"$f":"Calculator!$S$7*Sheet4!D888","v":6572.25},635]
[886,24105.37,{"$f":"Calculator!$S$7*Sheet4!D889","v":6582.5999999999995},636]
[887,24115.72,{"$f":"Calculator!$S$7*Sheet4!D890","v":6592.95},637]
[888,24126.07,{"$f":"Calculator!$S$7*Sheet4!D891","v":6603.3},638]
[889,24136.42,{"$f":"Calculator!$S$7*Sheet4!D892","v":6613.65},639]
[890,24146.77,{"$f":"Calculator!$S$7*Sheet4!D893","v":6624},640]
[891,24157.119999999999,{"$f":"Calculator!$S$7*Sheet4!D894","v":6634.3499999999995},641]
[892,24167.47,{"$f":"Calculator!$S$7*Sheet4!D895","v":6644.7},642]
[893,{"$f":"$B$253+C896","v":24177.82},{"$f":"Calculator!$S$7*Sheet4!D896","v":6655.05},643]
[894,24188.17,{"$f":"Calculator!$S$7*Sheet4!D897","v":6665.4},644]
[895,24198.52,{"$f":"Calculator!$S$7*Sheet4!D898","v":6675.75},645]
[896,24208.87,{"$f":"Calculator!$S$7*Sheet4!D899","v":6686.0999999999995},646]
[897,24219.22,{"$f":"Calculator!$S$7*Sheet4!D900","v":6696.45},647]
[898,24229.57,{"$f":"Calculator!$S$7*Sheet4!D901","v":6706.8},648]
[899,24239.919999999998,{"$f":"Calculator!$S$7*Sheet4!D902","v":6717.15},649]
[900,24250.27,{"$f":"Calculator!$S$7*Sheet4!D903","v":6727.5},650]
[901,24260.62,{"$f":"Calculator!$S$7*Sheet4!D904","v":6737.8499999999995},651]
[902,24270.97,{"$f":"Calculator!$S$7*Sheet4!D905","v":6748.2},652]
[903,24281.32,{"$f":"Calculator!$S$7*Sheet4!D906","v":6758.55},653]
[904,24291.67,{"$f":"Calculator!$S$7*Sheet4!D907","v":6768.9},654]
[905,24302.02,{"$f":"Calculator!$S$7*Sheet4!D908","v":6779.25},655]
[906,24312.37,{"$f":"Calculator!$S$7*Sheet4!D909","v":6789.5999999999995},656]
[907,24322.720000000001,{"$f":"Calculator!$S$7*Sheet4!D910","v":6799.95},657]
[908,24333.07,{"$f":"Calculator!$S$7*Sheet4!D911","v":6810.3},658]
[909,24343.42,{"$f":"Calculator!$S$7*Sheet4!D912","v":6820.65},659]
[910,24353.77,{"$f":"Calculator!$S$7*Sheet4!D913","v":6831},660]
[911,24364.12,{"$f":"Calculator!$S$7*Sheet4!D914","v":6841.3499999999995},661]
[912,24374.47,{"$f":"Calculator!$S$7*Sheet4!D915","v":6851.7},662]
[913,24384.82,{"$f":"Calculator!$S$7*Sheet4!D916","v":6862.05},663]
[914,24395.17,{"$f":"Calculator!$S$7*Sheet4!D917","v":6872.4},664]
[915,24405.52,{"$f":"Calculator!$S$7*Sheet4!D918","v":6882.75},665]
[916,24415.87,{"$f":"Calculator!$S$7*Sheet4!D919","v":6893.0999999999995},666]
[917,24426.22,{"$f":"Calculator!$S$7*Sheet4!D920","v":6903.45},667]
[918,24436.57,{"$f":"Calculator!$S$7*Sheet4!D921","v":6913.8},668]
[919,24446.92,{"$f":"Calculator!$S$7*Sheet4!D922","v":6924.15},669]
[920,24457.27,{"$f":"Calculator!$S$7*Sheet4!D923","v":6934.5},670]
[921,24467.62,{"$f":"Calculator!$S$7*Sheet4!D924","v":6944.8499999999995},671]
[922,24477.97,{"$f":"Calculator!$S$7*Sheet4!D925","v":6955.2},672]
[923,24488.32,{"$f":"Calculator!$S$7*Sheet4!D926","v":6965.55},673]
[924,24498.67,{"$f":"Calculator!$S$7*Sheet4!D927","v":6975.9},674]
[925,24509.02,{"$f":"Calculator!$S$7*Sheet4!D928","v":6986.25},675]
[926,24519.37,{"$f":"Calculator!$S$7*Sheet4!D929","v":6996.5999999999995},676]
[927,24529.72,{"$f":"Calculator!$S$7*Sheet4!D930","v":7006.95},677]
[928,24540.07,{"$f":"Calculator!$S$7*Sheet4!D931","v":7017.3},678]
[929,24550.42,{"$f":"Calculator!$S$7*Sheet4!D932","v":7027.65},679]
[930,24560.77,{"$f":"Calculator!$S$7*Sheet4!D933","v":7038},680]
[931,24571.119999999999,{"$f":"Calculator!$S$7*Sheet4!D934","v":7048.3499999999995},681]
[932,24581.47,{"$f":"Calculator!$S$7*Sheet4!D935","v":7058.7},682]
[933,24591.82,{"$f":"Calculator!$S$7*Sheet4!D936","v":7069.05},683]
[934,24602.17,{"$f":"Calculator!$S$7*Sheet4!D937","v":7079.4},684]
[935,24612.52,{"$f":"Calculator!$S$7*Sheet4!D938","v":7089.75},685]
[936,24622.87,{"$f":"Calculator!$S$7*Sheet4!D939","v":7100.0999999999995},686]
[937,24633.22,{"$f":"Calculator!$S$7*Sheet4!D940","v":7110.45},687]
[938,24643.57,{"$f":"Calculator!$S$7*Sheet4!D941","v":7120.8},688]
[939,24653.919999999998,{"$f":"Calculator!$S$7*Sheet4!D942","v":7131.15},689]
[940,24664.27,{"$f":"Calculator!$S$7*Sheet4!D943","v":7141.5},690]
[941,24674.62,{"$f":"Calculator!$S$7*Sheet4!D944","v":7151.8499999999995},691]
[942,24684.97,{"$f":"Calculator!$S$7*Sheet4!D945","v":7162.2},692]
[943,24695.32,{"$f":"Calculator!$S$7*Sheet4!D946","v":7172.55},693]
[944,24705.67,{"$f":"Calculator!$S$7*Sheet4!D947","v":7182.9},694]
[945,24716.02,{"$f":"Calculator!$S$7*Sheet4!D948","v":7193.25},695]
[946,24726.37,{"$f":"Calculator!$S$7*Sheet4!D949","v":7203.5999999999995},696]
[947,24736.720000000001,{"$f":"Calculator!$S$7*Sheet4!D950","v":7213.95},697]
[948,24747.07,{"$f":"Calculator!$S$7*Sheet4!D951","v":7224.3},698]
[949,24757.42,{"$f":"Calculator!$S$7*Sheet4!D952","v":7234.65},699]
[950,24767.77,{"$f":"Calculator!$S$7*Sheet4!D953","v":7245},700]
[951,24778.12,{"$f":"Calculator!$S$7*Sheet4!D954","v":7255.3499999999995},701]
[952,24788.47,{"$f":"Calculator!$S$7*Sheet4!D955","v":7265.7},702]
[953,24798.82,{"$f":"Calculator!$S$7*Sheet4!D956","v":7276.05},703]
[954,24809.17,{"$f":"Calculator!$S$7*Sheet4!D957","v":7286.4},704]
[955,24819.52,{"$f":"Calculator!$S$7*Sheet4!D958","v":7296.75},705]
[956,24829.87,{"$f":"Calculator!$S$7*Sheet4!D959","v":7307.0999999999995},706]
[957,{"$f":"$B$253+C960","v":24840.22},{"$f":"Calculator!$S$7*Sheet4!D960","v":7317.45},707]
[958,24850.57,{"$f":"Calculator!$S$7*Sheet4!D961","v":7327.8},708]
[959,24860.92,{"$f":"Calculator!$S$7*Sheet4!D962","v":7338.15},709]
[960,24871.27,{"$f":"Calculator!$S$7*Sheet4!D963","v":7348.5},710]
[961,24881.62,{"$f":"Calculator!$S$7*Sheet4!D964","v":7358.8499999999995},711]
[962,24891.97,{"$f":"Calculator!$S$7*Sheet4!D965","v":7369.2},712]
[963,24902.32,{"$f":"Calculator!$S$7*Sheet4!D966","v":7379.55},713]
[964,24912.67,{"$f":"Calculator!$S$7*Sheet4!D967","v":7389.9},714]
[965,24923.02,{"$f":"Calculator!$S$7*Sheet4!D968","v":7400.25},715]
[966,24933.37,{"$f":"Calculator!$S$7*Sheet4!D969","v":7410.5999999999995},716]
[967,24943.72,{"$f":"Calculator!$S$7*Sheet4!D970","v":7420.95},717]
[968,24954.07,{"$f":"Calculator!$S$7*Sheet4!D971","v":7431.3},718]
[969,24964.42,{"$f":"Calculator!$S$7*Sheet4!D972","v":7441.65},719]
[970,24974.77,{"$f":"Calculator!$S$7*Sheet4!D973","v":7452},720]
[971,24985.119999999999,{"$f":"Calculator!$S$7*Sheet4!D974","v":7462.3499999999995},721]
[972,24995.47,{"$f":"Calculator!$S$7*Sheet4!D975","v":7472.7},722]
[973,25005.82,{"$f":"Calculator!$S$7*Sheet4!D976","v":7483.05},723]
[974,25016.17,{"$f":"Calculator!$S$7*Sheet4!D977","v":7493.4},724]
[975,25026.52,{"$f":"Calculator!$S$7*Sheet4!D978","v":7503.75},725]
[976,25036.87,{"$f":"Calculator!$S$7*Sheet4!D979","v":7514.0999999999995},726]
[977,25047.22,{"$f":"Calculator!$S$7*Sheet4!D980","v":7524.45},727]
[978,25057.57,{"$f":"Calculator!$S$7*Sheet4!D981","v":7534.8},728]
[979,25067.919999999998,{"$f":"Calculator!$S$7*Sheet4!D982","v":7545.15},729]
[980,25078.27,{"$f":"Calculator!$S$7*Sheet4!D983","v":7555.5},730]
[981,25088.62,{"$f":"Calculator!$S$7*Sheet4!D984","v":7565.8499999999995},731]
[982,25098.97,{"$f":"Calculator!$S$7*Sheet4!D985","v":7576.2},732]
[983,25109.32,{"$f":"Calculator!$S$7*Sheet4!D986","v":7586.55},733]
[984,25119.67,{"$f":"Calculator!$S$7*Sheet4!D987","v":7596.9},734]
[985,25130.02,{"$f":"Calculator!$S$7*Sheet4!D988","v":7607.25},735]
[986,25140.37,{"$f":"Calculator!$S$7*Sheet4!D989","v":7617.5999999999995},736]
[987,25150.720000000001,{"$f":"Calculator!$S$7*Sheet4!D990","v":7627.95},737]
[988,25161.07,{"$f":"Calculator!$S$7*Sheet4!D991","v":7638.3},738]
[989,25171.42,{"$f":"Calculator!$S$7*Sheet4!D992","v":7648.65},739]
[990,25181.77,{"$f":"Calculator!$S$7*Sheet4!D993","v":7659},740]
[991,25192.12,{"$f":"Calculator!$S$7*Sheet4!D994","v":7669.3499999999995},741]
[992,25202.47,{"$f":"Calculator!$S$7*Sheet4!D995","v":7679.7},742]
[993,25212.82,{"$f":"Calculator!$S$7*Sheet4!D996","v":7690.05},743]
[994,25223.17,{"$f":"Calculator!$S$7*Sheet4!D997","v":7700.4},744]
[995,25233.52,{"$f":"Calculator!$S$7*Sheet4!D998","v":7710.75},745]
[996,25243.87,{"$f":"Calculator!$S$7*Sheet4!D999","v":7721.0999999999995},746]
[997,25254.22,{"$f":"Calculator!$S$7*Sheet4!D1000","v":7731.45},747]
[998,25264.57,{"$f":"Calculator!$S$7*Sheet4!D1001","v":7741.8},748]
[999,25274.92,{"$f":"Calculator!$S$7*Sheet4!D1002","v":7752.15},749]
[1000,25285.27,{"$f":"Calculator!$S$7*Sheet4!D1003","v":7762.5},750]

{"sheet":"Sheet3","index":4,"n_rows":0,"n_cols":0,"rows_kept":0,"cut":false,"hidden":true,"merged":[]}